BEGIN:VCALENDAR
PRODID:-//HKUST Drupal Platform//EN
VERSION:2.0
BEGIN:VTIMEZONE
TZID:Asia/Hong_Kong
BEGIN:STANDARD
DTSTART:20071104T020000
TZOFFSETFROM:+0700
TZOFFSETTO:+0800
TZNAME:HKT
END:STANDARD
END:VTIMEZONE
BEGIN:VEVENT
DTSTAMP;TZID=Asia/Hong_Kong:20260420T220847
DTSTART;TZID=Asia/Hong_Kong:20190926T203000
DTEND;TZID=Asia/Hong_Kong:20190926T213000
LOCATION:MPH, JCH
SUMMARY:JCH Yoga Class
UID:22367
END:VEVENT
BEGIN:VEVENT
DTSTAMP;TZID=Asia/Hong_Kong:20260420T220847
DTSTART;TZID=Asia/Hong_Kong:20190927T203000
DTEND;TZID=Asia/Hong_Kong:20190927T213000
LOCATION:MPH, JCH
SUMMARY:JCH Yoga Class
UID:22367
END:VEVENT
BEGIN:VEVENT
DTSTAMP;TZID=Asia/Hong_Kong:20260420T220847
DTSTART;TZID=Asia/Hong_Kong:20190928T203000
DTEND;TZID=Asia/Hong_Kong:20190928T213000
LOCATION:MPH, JCH
SUMMARY:JCH Yoga Class
UID:22367
END:VEVENT
BEGIN:VEVENT
DTSTAMP;TZID=Asia/Hong_Kong:20260420T220847
DTSTART;TZID=Asia/Hong_Kong:20190929T203000
DTEND;TZID=Asia/Hong_Kong:20190929T213000
LOCATION:MPH, JCH
SUMMARY:JCH Yoga Class
UID:22367
END:VEVENT
BEGIN:VEVENT
DTSTAMP;TZID=Asia/Hong_Kong:20260420T220847
DTSTART;TZID=Asia/Hong_Kong:20190930T203000
DTEND;TZID=Asia/Hong_Kong:20190930T213000
LOCATION:MPH, JCH
SUMMARY:JCH Yoga Class
UID:22367
END:VEVENT
BEGIN:VEVENT
DTSTAMP;TZID=Asia/Hong_Kong:20260420T220847
DTSTART;TZID=Asia/Hong_Kong:20191001T203000
DTEND;TZID=Asia/Hong_Kong:20191001T213000
LOCATION:MPH, JCH
SUMMARY:JCH Yoga Class
UID:22367
END:VEVENT
BEGIN:VEVENT
DTSTAMP;TZID=Asia/Hong_Kong:20260420T220847
DTSTART;TZID=Asia/Hong_Kong:20191002T203000
DTEND;TZID=Asia/Hong_Kong:20191002T213000
LOCATION:MPH, JCH
SUMMARY:JCH Yoga Class
UID:22367
END:VEVENT
BEGIN:VEVENT
DTSTAMP;TZID=Asia/Hong_Kong:20260420T220847
DTSTART;TZID=Asia/Hong_Kong:20191003T203000
DTEND;TZID=Asia/Hong_Kong:20191003T213000
LOCATION:MPH, JCH
SUMMARY:JCH Yoga Class
UID:22367
END:VEVENT
BEGIN:VEVENT
DTSTAMP;TZID=Asia/Hong_Kong:20260420T220847
DTSTART;TZID=Asia/Hong_Kong:20191004T203000
DTEND;TZID=Asia/Hong_Kong:20191004T213000
LOCATION:MPH, JCH
SUMMARY:JCH Yoga Class
UID:22367
END:VEVENT
BEGIN:VEVENT
DTSTAMP;TZID=Asia/Hong_Kong:20260420T220847
DTSTART;TZID=Asia/Hong_Kong:20191005T203000
DTEND;TZID=Asia/Hong_Kong:20191005T213000
LOCATION:MPH, JCH
SUMMARY:JCH Yoga Class
UID:22367
END:VEVENT
BEGIN:VEVENT
DTSTAMP;TZID=Asia/Hong_Kong:20260420T220847
DTSTART;TZID=Asia/Hong_Kong:20191006T203000
DTEND;TZID=Asia/Hong_Kong:20191006T213000
LOCATION:MPH, JCH
SUMMARY:JCH Yoga Class
UID:22367
END:VEVENT
BEGIN:VEVENT
DTSTAMP;TZID=Asia/Hong_Kong:20260420T220847
DTSTART;TZID=Asia/Hong_Kong:20191007T203000
DTEND;TZID=Asia/Hong_Kong:20191007T213000
LOCATION:MPH, JCH
SUMMARY:JCH Yoga Class
UID:22367
END:VEVENT
BEGIN:VEVENT
DTSTAMP;TZID=Asia/Hong_Kong:20260420T220847
DTSTART;TZID=Asia/Hong_Kong:20191008T203000
DTEND;TZID=Asia/Hong_Kong:20191008T213000
LOCATION:MPH, JCH
SUMMARY:JCH Yoga Class
UID:22367
END:VEVENT
BEGIN:VEVENT
DTSTAMP;TZID=Asia/Hong_Kong:20260420T220847
DTSTART;TZID=Asia/Hong_Kong:20191009T203000
DTEND;TZID=Asia/Hong_Kong:20191009T213000
LOCATION:MPH, JCH
SUMMARY:JCH Yoga Class
UID:22367
END:VEVENT
BEGIN:VEVENT
DTSTAMP;TZID=Asia/Hong_Kong:20260420T220847
DTSTART;TZID=Asia/Hong_Kong:20191010T203000
DTEND;TZID=Asia/Hong_Kong:20191010T213000
LOCATION:MPH, JCH
SUMMARY:JCH Yoga Class
UID:22367
END:VEVENT
BEGIN:VEVENT
DTSTAMP;TZID=Asia/Hong_Kong:20260420T220847
DTSTART;TZID=Asia/Hong_Kong:20191011T203000
DTEND;TZID=Asia/Hong_Kong:20191011T213000
LOCATION:MPH, JCH
SUMMARY:JCH Yoga Class
UID:22367
END:VEVENT
BEGIN:VEVENT
DTSTAMP;TZID=Asia/Hong_Kong:20260420T220847
DTSTART;TZID=Asia/Hong_Kong:20191012T203000
DTEND;TZID=Asia/Hong_Kong:20191012T213000
LOCATION:MPH, JCH
SUMMARY:JCH Yoga Class
UID:22367
END:VEVENT
BEGIN:VEVENT
DTSTAMP;TZID=Asia/Hong_Kong:20260420T220847
DTSTART;TZID=Asia/Hong_Kong:20191013T203000
DTEND;TZID=Asia/Hong_Kong:20191013T213000
LOCATION:MPH, JCH
SUMMARY:JCH Yoga Class
UID:22367
END:VEVENT
BEGIN:VEVENT
DTSTAMP;TZID=Asia/Hong_Kong:20260420T220847
DTSTART;TZID=Asia/Hong_Kong:20191014T203000
DTEND;TZID=Asia/Hong_Kong:20191014T213000
LOCATION:MPH, JCH
SUMMARY:JCH Yoga Class
UID:22367
END:VEVENT
BEGIN:VEVENT
DTSTAMP;TZID=Asia/Hong_Kong:20260420T220847
DTSTART;TZID=Asia/Hong_Kong:20191015T203000
DTEND;TZID=Asia/Hong_Kong:20191015T213000
LOCATION:MPH, JCH
SUMMARY:JCH Yoga Class
UID:22367
END:VEVENT
BEGIN:VEVENT
DTSTAMP;TZID=Asia/Hong_Kong:20260420T220847
DTSTART;TZID=Asia/Hong_Kong:20191016T203000
DTEND;TZID=Asia/Hong_Kong:20191016T213000
LOCATION:MPH, JCH
SUMMARY:JCH Yoga Class
UID:22367
END:VEVENT
BEGIN:VEVENT
DTSTAMP;TZID=Asia/Hong_Kong:20260420T220847
DTSTART;TZID=Asia/Hong_Kong:20191017T203000
DTEND;TZID=Asia/Hong_Kong:20191017T213000
LOCATION:MPH, JCH
SUMMARY:JCH Yoga Class
UID:22367
END:VEVENT
BEGIN:VEVENT
DTSTAMP;TZID=Asia/Hong_Kong:20260420T220847
DTSTART;TZID=Asia/Hong_Kong:20191018T203000
DTEND;TZID=Asia/Hong_Kong:20191018T213000
LOCATION:MPH, JCH
SUMMARY:JCH Yoga Class
UID:22367
END:VEVENT
BEGIN:VEVENT
DTSTAMP;TZID=Asia/Hong_Kong:20260420T220847
DTSTART;TZID=Asia/Hong_Kong:20191019T203000
DTEND;TZID=Asia/Hong_Kong:20191019T213000
LOCATION:MPH, JCH
SUMMARY:JCH Yoga Class
UID:22367
END:VEVENT
BEGIN:VEVENT
DTSTAMP;TZID=Asia/Hong_Kong:20260420T220847
DTSTART;TZID=Asia/Hong_Kong:20191020T203000
DTEND;TZID=Asia/Hong_Kong:20191020T213000
LOCATION:MPH, JCH
SUMMARY:JCH Yoga Class
UID:22367
END:VEVENT
BEGIN:VEVENT
DTSTAMP;TZID=Asia/Hong_Kong:20260420T220847
DTSTART;TZID=Asia/Hong_Kong:20191021T203000
DTEND;TZID=Asia/Hong_Kong:20191021T213000
LOCATION:MPH, JCH
SUMMARY:JCH Yoga Class
UID:22367
END:VEVENT
BEGIN:VEVENT
DTSTAMP;TZID=Asia/Hong_Kong:20260420T220847
DTSTART;TZID=Asia/Hong_Kong:20191022T203000
DTEND;TZID=Asia/Hong_Kong:20191022T213000
LOCATION:MPH, JCH
SUMMARY:JCH Yoga Class
UID:22367
END:VEVENT
BEGIN:VEVENT
DTSTAMP;TZID=Asia/Hong_Kong:20260420T220847
DTSTART;TZID=Asia/Hong_Kong:20191023T203000
DTEND;TZID=Asia/Hong_Kong:20191023T213000
LOCATION:MPH, JCH
SUMMARY:JCH Yoga Class
UID:22367
END:VEVENT
BEGIN:VEVENT
DTSTAMP;TZID=Asia/Hong_Kong:20260420T220847
DTSTART;TZID=Asia/Hong_Kong:20191024T203000
DTEND;TZID=Asia/Hong_Kong:20191024T213000
LOCATION:MPH, JCH
SUMMARY:JCH Yoga Class
UID:22367
END:VEVENT
END:VCALENDAR