BEGIN:VCALENDAR
PRODID:-//HKUST Drupal Platform//EN
VERSION:2.0
BEGIN:VTIMEZONE
TZID:Asia/Hong_Kong
BEGIN:STANDARD
DTSTART:20071104T020000
TZOFFSETFROM:+0700
TZOFFSETTO:+0800
TZNAME:HKT
END:STANDARD
END:VTIMEZONE
BEGIN:VEVENT
DTSTAMP;TZID=Asia/Hong_Kong:20260420T132908
DTSTART;TZID=Asia/Hong_Kong:20191021T100000
DTEND;TZID=Asia/Hong_Kong:20191021T190000
LOCATION:Atrium
SUMMARY:From the Bauhaus: visions, design and technology - Exhibition - From the Bauhaus: visions, design and technology
UID:22286
END:VEVENT
BEGIN:VEVENT
DTSTAMP;TZID=Asia/Hong_Kong:20260420T132908
DTSTART;TZID=Asia/Hong_Kong:20191022T100000
DTEND;TZID=Asia/Hong_Kong:20191022T190000
LOCATION:Atrium
SUMMARY:From the Bauhaus: visions, design and technology - Exhibition - From the Bauhaus: visions, design and technology
UID:22286
END:VEVENT
BEGIN:VEVENT
DTSTAMP;TZID=Asia/Hong_Kong:20260420T132908
DTSTART;TZID=Asia/Hong_Kong:20191023T100000
DTEND;TZID=Asia/Hong_Kong:20191023T190000
LOCATION:Atrium
SUMMARY:From the Bauhaus: visions, design and technology - Exhibition - From the Bauhaus: visions, design and technology
UID:22286
END:VEVENT
BEGIN:VEVENT
DTSTAMP;TZID=Asia/Hong_Kong:20260420T132908
DTSTART;TZID=Asia/Hong_Kong:20191024T100000
DTEND;TZID=Asia/Hong_Kong:20191024T190000
LOCATION:Atrium
SUMMARY:From the Bauhaus: visions, design and technology - Exhibition - From the Bauhaus: visions, design and technology
UID:22286
END:VEVENT
BEGIN:VEVENT
DTSTAMP;TZID=Asia/Hong_Kong:20260420T132908
DTSTART;TZID=Asia/Hong_Kong:20191025T100000
DTEND;TZID=Asia/Hong_Kong:20191025T190000
LOCATION:Atrium
SUMMARY:From the Bauhaus: visions, design and technology - Exhibition - From the Bauhaus: visions, design and technology
UID:22286
END:VEVENT
END:VCALENDAR