BEGIN:VCALENDAR
PRODID:-//HKUST Drupal Platform//EN
VERSION:2.0
BEGIN:VTIMEZONE
TZID:Asia/Hong_Kong
BEGIN:STANDARD
DTSTART:20071104T020000
TZOFFSETFROM:+0700
TZOFFSETTO:+0800
TZNAME:HKT
END:STANDARD
END:VTIMEZONE
BEGIN:VEVENT
DTSTAMP;TZID=Asia/Hong_Kong:20260421T004627
DTSTART;TZID=Asia/Hong_Kong:20191113T130000
DTEND;TZID=Asia/Hong_Kong:20191113T140000
LOCATION:Tsang Shiu Tim Art Hall, HKUST
SUMMARY:大台主音樂先導計劃 - 院校巡迴講座及表演 My Main Stage – Music Production Pilot Program - Touring Performance and Talk  (節目取消 Event Cancelled)
UID:22268
END:VEVENT
END:VCALENDAR