BEGIN:VCALENDAR
PRODID:-//HKUST Drupal Platform//EN
VERSION:2.0
BEGIN:VTIMEZONE
TZID:Asia/Hong_Kong
BEGIN:STANDARD
DTSTART:20071104T020000
TZOFFSETFROM:+0700
TZOFFSETTO:+0800
TZNAME:HKT
END:STANDARD
END:VTIMEZONE
BEGIN:VEVENT
DTSTAMP;TZID=Asia/Hong_Kong:20260420T193947
DTSTART;TZID=Asia/Hong_Kong:20191018T103000
DTEND;TZID=Asia/Hong_Kong:20191018T113000
LOCATION:Room 6573, 6/F (Lifts 29/30), Academic Building, HKUST
SUMMARY:CHEM - PhD Student Seminar - Newly Developed Drug for Influenza-Mechanisms and Drug Resistance
UID:22262
END:VEVENT
END:VCALENDAR