BEGIN:VCALENDAR
PRODID:-//HKUST Drupal Platform//EN
VERSION:2.0
BEGIN:VTIMEZONE
TZID:Asia/Hong_Kong
BEGIN:STANDARD
DTSTART:20071104T020000
TZOFFSETFROM:+0700
TZOFFSETTO:+0800
TZNAME:HKT
END:STANDARD
END:VTIMEZONE
BEGIN:VEVENT
DTSTAMP;TZID=Asia/Hong_Kong:20260420T153657
DTSTART;TZID=Asia/Hong_Kong:20191022T150000
DTEND;TZID=Asia/Hong_Kong:20191022T170000
LOCATION:Rm 5620 (via lift 31-32)
SUMMARY:[HLTH1010 - 2 hours] Screening - A Woman is A Woman
UID:22204
END:VEVENT
END:VCALENDAR