BEGIN:VCALENDAR
PRODID:-//HKUST Drupal Platform//EN
VERSION:2.0
BEGIN:VTIMEZONE
TZID:Asia/Hong_Kong
BEGIN:STANDARD
DTSTART:20071104T020000
TZOFFSETFROM:+0700
TZOFFSETTO:+0800
TZNAME:HKT
END:STANDARD
END:VTIMEZONE
BEGIN:VEVENT
DTSTAMP;TZID=Asia/Hong_Kong:20260420T163754
DTSTART;TZID=Asia/Hong_Kong:20191127T130000
DTEND;TZID=Asia/Hong_Kong:20191127T140000
LOCATION:Ping Yuan and Kinmay W Tang Gallery, G/F, Lee Shau Kee Library, HKUST  香港科技大學李兆基圖書館地下 唐炳源唐温金美展覽廳
SUMMARY:[節目取消 Event Cancelled]「解語 ．紅梅: 唐滌生創作傳奇」 展覽導賞   Exhibition Guided Tour  - From the Consoling Lotus to The Red Plum: The Legend of Tong Tik-sang’s Creative Career
UID:22138
END:VEVENT
END:VCALENDAR