BEGIN:VCALENDAR
PRODID:-//HKUST Drupal Platform//EN
VERSION:2.0
BEGIN:VTIMEZONE
TZID:Asia/Hong_Kong
BEGIN:STANDARD
DTSTART:20071104T020000
TZOFFSETFROM:+0700
TZOFFSETTO:+0800
TZNAME:HKT
END:STANDARD
END:VTIMEZONE
BEGIN:VEVENT
DTSTAMP;TZID=Asia/Hong_Kong:20260420T185635
DTSTART;TZID=Asia/Hong_Kong:20200115T130000
DTEND;TZID=Asia/Hong_Kong:20200115T140000
LOCATION:Tsang Shiu Tim Art Hall, HKUST
SUMMARY:Flute Acoustics by Vanessa CHEUNG, Sybil WU & King Wan CHAN
UID:22025
END:VEVENT
END:VCALENDAR