BEGIN:VCALENDAR
PRODID:-//HKUST Drupal Platform//EN
VERSION:2.0
BEGIN:VTIMEZONE
TZID:Asia/Hong_Kong
BEGIN:STANDARD
DTSTART:20071104T020000
TZOFFSETFROM:+0700
TZOFFSETTO:+0800
TZNAME:HKT
END:STANDARD
END:VTIMEZONE
BEGIN:VEVENT
DTSTAMP;TZID=Asia/Hong_Kong:20260420T181323
DTSTART;TZID=Asia/Hong_Kong:20191205T110000
DTEND;TZID=Asia/Hong_Kong:20191205T120000
LOCATION:Room 2303, 2/F (Lifts 17/18), Academic Building, HKUST
SUMMARY:CHEM - PhD Student Seminar - Hypoxia Inducible Factor 1-alpha (HIF-1α) as a Target for Cancer Treatment
UID:22016
END:VEVENT
END:VCALENDAR