BEGIN:VCALENDAR
PRODID:-//HKUST Drupal Platform//EN
VERSION:2.0
BEGIN:VTIMEZONE
TZID:Asia/Hong_Kong
BEGIN:STANDARD
DTSTART:20071104T020000
TZOFFSETFROM:+0700
TZOFFSETTO:+0800
TZNAME:HKT
END:STANDARD
END:VTIMEZONE
BEGIN:VEVENT
DTSTAMP;TZID=Asia/Hong_Kong:20260426T103407
DTSTART;TZID=Asia/Hong_Kong:20191213T100000
DTEND;TZID=Asia/Hong_Kong:20191213T110000
LOCATION:Room 5003 (via Lift 3), Counseling and Wellness Center
SUMMARY:Dog Dog Café
UID:22009
END:VEVENT
END:VCALENDAR