BEGIN:VCALENDAR
PRODID:-//HKUST Drupal Platform//EN
VERSION:2.0
BEGIN:VTIMEZONE
TZID:Asia/Hong_Kong
BEGIN:STANDARD
DTSTART:20071104T020000
TZOFFSETFROM:+0700
TZOFFSETTO:+0800
TZNAME:HKT
END:STANDARD
END:VTIMEZONE
BEGIN:VEVENT
DTSTAMP;TZID=Asia/Hong_Kong:20260420T132906
DTSTART;TZID=Asia/Hong_Kong:20200117T140000
DTEND;TZID=Asia/Hong_Kong:20200117T150000
LOCATION:Room 2463 (via lift 25/26), Academic Complex, HKUST
SUMMARY:ECE Department Seminar - Surface wave trapping in isolated and coupled mechanical resonators
UID:21894
END:VEVENT
END:VCALENDAR