BEGIN:VCALENDAR
PRODID:-//HKUST Drupal Platform//EN
VERSION:2.0
BEGIN:VTIMEZONE
TZID:Asia/Hong_Kong
BEGIN:STANDARD
DTSTART:20071104T020000
TZOFFSETFROM:+0700
TZOFFSETTO:+0800
TZNAME:HKT
END:STANDARD
END:VTIMEZONE
BEGIN:VEVENT
DTSTAMP;TZID=Asia/Hong_Kong:20260420T124102
DTSTART;TZID=Asia/Hong_Kong:20200320T153000
DTEND;TZID=Asia/Hong_Kong:20200320T170000
LOCATION:Online via Zoom and Room 3598 (Lifts 27-28) , Academic Building, HKUST ;, Zoom link: https://hkust.zoom.us/j/601761120 (Meeting ID: 601 761 120)
SUMMARY:ISD Seminar:  Design against Reverse Salients: Strategic design for sustainability transitions
UID:21808
END:VEVENT
END:VCALENDAR