BEGIN:VCALENDAR
PRODID:-//HKUST Drupal Platform//EN
VERSION:2.0
BEGIN:VTIMEZONE
TZID:Asia/Hong_Kong
BEGIN:STANDARD
DTSTART:20071104T020000
TZOFFSETFROM:+0700
TZOFFSETTO:+0800
TZNAME:HKT
END:STANDARD
END:VTIMEZONE
BEGIN:VEVENT
DTSTAMP;TZID=Asia/Hong_Kong:20260420T193946
DTSTART;TZID=Asia/Hong_Kong:20200528T140000
DTEND;TZID=Asia/Hong_Kong:20200528T150000
LOCATION:Online
SUMMARY:CHEM - PhD Student Seminar - Alternating Copolymerization of Ethene Promoted by Homogeneous Group 3 and 4 Metal Catalysts
UID:21660
END:VEVENT
END:VCALENDAR