BEGIN:VCALENDAR
PRODID:-//HKUST Drupal Platform//EN
VERSION:2.0
BEGIN:VTIMEZONE
TZID:Asia/Hong_Kong
BEGIN:STANDARD
DTSTART:20071104T020000
TZOFFSETFROM:+0700
TZOFFSETTO:+0800
TZNAME:HKT
END:STANDARD
END:VTIMEZONE
BEGIN:VEVENT
DTSTAMP;TZID=Asia/Hong_Kong:20260420T072042
DTSTART;TZID=Asia/Hong_Kong:20200522T100000
DTEND;TZID=Asia/Hong_Kong:20200522T113000
LOCATION:Via ZOOM : https://hkust.zoom.us/meeting/register/tJ0vceqsrjkrHtxHoaQm-mBos0-dwi7ZK0a8
SUMMARY:Joint ECE and HK EDSSC Chapter Online Seminar Series - Long-distance spin transmission in an antiferromagnetic insulator with easy-plane anisotropy
UID:21655
END:VEVENT
END:VCALENDAR