BEGIN:VCALENDAR
PRODID:-//HKUST Drupal Platform//EN
VERSION:2.0
BEGIN:VTIMEZONE
TZID:Asia/Hong_Kong
BEGIN:STANDARD
DTSTART:20071104T020000
TZOFFSETFROM:+0700
TZOFFSETTO:+0800
TZNAME:HKT
END:STANDARD
END:VTIMEZONE
BEGIN:VEVENT
DTSTAMP;TZID=Asia/Hong_Kong:20260421T011200
DTSTART;TZID=Asia/Hong_Kong:20200618T143000
DTEND;TZID=Asia/Hong_Kong:20200618T153000
LOCATION:Online
SUMMARY:CHEM - PhD Student Seminar - Synthetic Applications of Type II Intramolecular Cycloadditions
UID:21512
END:VEVENT
END:VCALENDAR