BEGIN:VCALENDAR
PRODID:-//HKUST Drupal Platform//EN
VERSION:2.0
BEGIN:VTIMEZONE
TZID:Asia/Hong_Kong
BEGIN:STANDARD
DTSTART:20071104T020000
TZOFFSETFROM:+0700
TZOFFSETTO:+0800
TZNAME:HKT
END:STANDARD
END:VTIMEZONE
BEGIN:VEVENT
DTSTAMP;TZID=Asia/Hong_Kong:20260421T020738
DTSTART;TZID=Asia/Hong_Kong:20200727T150000
DTEND;TZID=Asia/Hong_Kong:20200727T170000
LOCATION:Online
SUMMARY:PhD in Chemistry - Charge Transport Study and Device Fabrication for Efficient Non-Fullerene Based Indoor Organic Solar Cells
UID:21360
END:VEVENT
END:VCALENDAR