BEGIN:VCALENDAR
PRODID:-//HKUST Drupal Platform//EN
VERSION:2.0
BEGIN:VTIMEZONE
TZID:Asia/Hong_Kong
BEGIN:STANDARD
DTSTART:20071104T020000
TZOFFSETFROM:+0700
TZOFFSETTO:+0800
TZNAME:HKT
END:STANDARD
END:VTIMEZONE
BEGIN:VEVENT
DTSTAMP;TZID=Asia/Hong_Kong:20260420T181318
DTSTART;TZID=Asia/Hong_Kong:20200730T150000
DTEND;TZID=Asia/Hong_Kong:20200730T160000
LOCATION:Online
SUMMARY:CHEM - PhD Student Seminar - Symmetry Breaking Effect Beyond Molecular Level: from Achial Molecules
UID:21359
END:VEVENT
END:VCALENDAR