BEGIN:VCALENDAR
PRODID:-//HKUST Drupal Platform//EN
VERSION:2.0
BEGIN:VTIMEZONE
TZID:Asia/Hong_Kong
BEGIN:STANDARD
DTSTART:20071104T020000
TZOFFSETFROM:+0700
TZOFFSETTO:+0800
TZNAME:HKT
END:STANDARD
END:VTIMEZONE
BEGIN:VEVENT
DTSTAMP;TZID=Asia/Hong_Kong:20260420T193947
DTSTART;TZID=Asia/Hong_Kong:20200806T140000
DTEND;TZID=Asia/Hong_Kong:20200806T170000
LOCATION:Zoom meeting, HKUST
SUMMARY:PhD in Chemistry - Kinetic and Structural Investigation on Mechanism-Based Inhibition of the Essential Thiamine-Dependent Enzyme in Vitamin K2 Biosynthesis
UID:21342
END:VEVENT
END:VCALENDAR