BEGIN:VCALENDAR
PRODID:-//HKUST Drupal Platform//EN
VERSION:2.0
BEGIN:VTIMEZONE
TZID:Asia/Hong_Kong
BEGIN:STANDARD
DTSTART:20071104T020000
TZOFFSETFROM:+0700
TZOFFSETTO:+0800
TZNAME:HKT
END:STANDARD
END:VTIMEZONE
BEGIN:VEVENT
DTSTAMP;TZID=Asia/Hong_Kong:20260420T193948
DTSTART;TZID=Asia/Hong_Kong:20200812T163000
DTEND;TZID=Asia/Hong_Kong:20200812T183000
LOCATION:Online
SUMMARY:MPhil in Chemistry - Stretching Mechanics of Biomolecules Probed by Optical Tweezers
UID:21328
END:VEVENT
END:VCALENDAR