BEGIN:VCALENDAR
PRODID:-//HKUST Drupal Platform//EN
VERSION:2.0
BEGIN:VTIMEZONE
TZID:Asia/Hong_Kong
BEGIN:STANDARD
DTSTART:20071104T020000
TZOFFSETFROM:+0700
TZOFFSETTO:+0800
TZNAME:HKT
END:STANDARD
END:VTIMEZONE
BEGIN:VEVENT
DTSTAMP;TZID=Asia/Hong_Kong:20260420T181316
DTSTART;TZID=Asia/Hong_Kong:20200813T143000
DTEND;TZID=Asia/Hong_Kong:20200813T163000
LOCATION:Online
SUMMARY:PhD in Chemistry - Binary Synergistic System of Aggregation-Induced Emissive Luminophores and Polymeric Materials for Amplified Functions
UID:21324
END:VEVENT
END:VCALENDAR