BEGIN:VCALENDAR
PRODID:-//HKUST Drupal Platform//EN
VERSION:2.0
BEGIN:VTIMEZONE
TZID:Asia/Hong_Kong
BEGIN:STANDARD
DTSTART:20071104T020000
TZOFFSETFROM:+0700
TZOFFSETTO:+0800
TZNAME:HKT
END:STANDARD
END:VTIMEZONE
BEGIN:VEVENT
DTSTAMP;TZID=Asia/Hong_Kong:20260421T004629
DTSTART;TZID=Asia/Hong_Kong:20200821T103000
DTEND;TZID=Asia/Hong_Kong:20200821T123000
LOCATION:Online
SUMMARY:PhD in Chemistry - Synthesis and Redox Property of Cerium(IV) Alkoxide and Related Complexes
UID:21304
END:VEVENT
END:VCALENDAR