BEGIN:VCALENDAR
PRODID:-//HKUST Drupal Platform//EN
VERSION:2.0
BEGIN:VTIMEZONE
TZID:Asia/Hong_Kong
BEGIN:STANDARD
DTSTART:20071104T020000
TZOFFSETFROM:+0700
TZOFFSETTO:+0800
TZNAME:HKT
END:STANDARD
END:VTIMEZONE
BEGIN:VEVENT
DTSTAMP;TZID=Asia/Hong_Kong:20260420T193903
DTSTART;TZID=Asia/Hong_Kong:20200820T143000
DTEND;TZID=Asia/Hong_Kong:20200820T163000
LOCATION:Online
SUMMARY:MPhil in Chemistry - Searching for Novel Decalin-Containing Macrolidic Antibiotics by Genome Mining
UID:21302
END:VEVENT
END:VCALENDAR