BEGIN:VCALENDAR
PRODID:-//HKUST Drupal Platform//EN
VERSION:2.0
BEGIN:VTIMEZONE
TZID:Asia/Hong_Kong
BEGIN:STANDARD
DTSTART:20071104T020000
TZOFFSETFROM:+0700
TZOFFSETTO:+0800
TZNAME:HKT
END:STANDARD
END:VTIMEZONE
BEGIN:VEVENT
DTSTAMP;TZID=Asia/Hong_Kong:20260420T162503
DTSTART;TZID=Asia/Hong_Kong:20180328T200000
DTEND;TZID=Asia/Hong_Kong:20180328T213000
LOCATION:C101, UG Hall VII
SUMMARY:[Hall VII] Joint-Hall Badminton Competition - Information Section
UID:14644
END:VEVENT
END:VCALENDAR