BEGIN:VCALENDAR
PRODID:-//HKUST Drupal Platform//EN
VERSION:2.0
BEGIN:VTIMEZONE
TZID:Asia/Hong_Kong
BEGIN:STANDARD
DTSTART:20071104T020000
TZOFFSETFROM:+0700
TZOFFSETTO:+0800
TZNAME:HKT
END:STANDARD
END:VTIMEZONE
BEGIN:VEVENT
DTSTAMP;TZID=Asia/Hong_Kong:20260420T220859
DTSTART;TZID=Asia/Hong_Kong:19700101T080000
DTEND;TZID=Asia/Hong_Kong:19700101T080000
LOCATION:Multi-Purpose Hall, UG Hall VII
SUMMARY:UG Hall VII LLC Entrepreneurship Talk from Origami Lab 23 Oct
UID:14632
END:VEVENT
END:VCALENDAR