BEGIN:VCALENDAR
PRODID:-//HKUST Drupal Platform//EN
VERSION:2.0
BEGIN:VTIMEZONE
TZID:Asia/Hong_Kong
BEGIN:STANDARD
DTSTART:20071104T020000
TZOFFSETFROM:+0700
TZOFFSETTO:+0800
TZNAME:HKT
END:STANDARD
END:VTIMEZONE
BEGIN:VEVENT
DTSTAMP;TZID=Asia/Hong_Kong:20260421T004703
DTSTART;TZID=Asia/Hong_Kong:20181010T133000
DTEND;TZID=Asia/Hong_Kong:19700101T080000
LOCATION:MPH, G/F JCH
SUMMARY:Night Talk- Sharing on PG Studies
UID:14522
END:VEVENT
END:VCALENDAR