BEGIN:VCALENDAR
PRODID:-//HKUST Drupal Platform//EN
VERSION:2.0
BEGIN:VTIMEZONE
TZID:Asia/Hong_Kong
BEGIN:STANDARD
DTSTART:20071104T020000
TZOFFSETFROM:+0700
TZOFFSETTO:+0800
TZNAME:HKT
END:STANDARD
END:VTIMEZONE
BEGIN:VEVENT
DTSTAMP;TZID=Asia/Hong_Kong:20260420T232624
DTSTART;TZID=Asia/Hong_Kong:20260423T113000
DTEND;TZID=Asia/Hong_Kong:20260423T180000
LOCATION:Engineering Commons, Room 2580, Lifts 27-28
SUMMARY:35 for Life - 35 for Life - Blood Donation (23 Apr)
UID:47019
END:VEVENT
END:VCALENDAR