BEGIN:VCALENDAR
PRODID:-//HKUST Drupal Platform//EN
VERSION:2.0
BEGIN:VTIMEZONE
TZID:Asia/Hong_Kong
BEGIN:STANDARD
DTSTART:20071104T020000
TZOFFSETFROM:+0700
TZOFFSETTO:+0800
TZNAME:HKT
END:STANDARD
END:VTIMEZONE
BEGIN:VEVENT
DTSTAMP;TZID=Asia/Hong_Kong:20260422T152902
DTSTART;TZID=Asia/Hong_Kong:20260316T130000
DTEND;TZID=Asia/Hong_Kong:20260316T170000
LOCATION:LG7 Community Garden
SUMMARY:Watermelon Growing Workshops: From Planting to Harvest
UID:46658
END:VEVENT
BEGIN:VEVENT
DTSTAMP;TZID=Asia/Hong_Kong:20260422T152902
DTSTART;TZID=Asia/Hong_Kong:20260317T130000
DTEND;TZID=Asia/Hong_Kong:20260317T170000
LOCATION:LG7 Community Garden
SUMMARY:Watermelon Growing Workshops: From Planting to Harvest
UID:46658
END:VEVENT
BEGIN:VEVENT
DTSTAMP;TZID=Asia/Hong_Kong:20260422T152902
DTSTART;TZID=Asia/Hong_Kong:20260318T130000
DTEND;TZID=Asia/Hong_Kong:20260318T170000
LOCATION:LG7 Community Garden
SUMMARY:Watermelon Growing Workshops: From Planting to Harvest
UID:46658
END:VEVENT
BEGIN:VEVENT
DTSTAMP;TZID=Asia/Hong_Kong:20260422T152902
DTSTART;TZID=Asia/Hong_Kong:20260319T130000
DTEND;TZID=Asia/Hong_Kong:20260319T170000
LOCATION:LG7 Community Garden
SUMMARY:Watermelon Growing Workshops: From Planting to Harvest
UID:46658
END:VEVENT
BEGIN:VEVENT
DTSTAMP;TZID=Asia/Hong_Kong:20260422T152902
DTSTART;TZID=Asia/Hong_Kong:20260320T130000
DTEND;TZID=Asia/Hong_Kong:20260320T170000
LOCATION:LG7 Community Garden
SUMMARY:Watermelon Growing Workshops: From Planting to Harvest
UID:46658
END:VEVENT
BEGIN:VEVENT
DTSTAMP;TZID=Asia/Hong_Kong:20260422T152902
DTSTART;TZID=Asia/Hong_Kong:20260321T130000
DTEND;TZID=Asia/Hong_Kong:20260321T170000
LOCATION:LG7 Community Garden
SUMMARY:Watermelon Growing Workshops: From Planting to Harvest
UID:46658
END:VEVENT
BEGIN:VEVENT
DTSTAMP;TZID=Asia/Hong_Kong:20260422T152902
DTSTART;TZID=Asia/Hong_Kong:20260322T130000
DTEND;TZID=Asia/Hong_Kong:20260322T170000
LOCATION:LG7 Community Garden
SUMMARY:Watermelon Growing Workshops: From Planting to Harvest
UID:46658
END:VEVENT
BEGIN:VEVENT
DTSTAMP;TZID=Asia/Hong_Kong:20260422T152902
DTSTART;TZID=Asia/Hong_Kong:20260323T130000
DTEND;TZID=Asia/Hong_Kong:20260323T170000
LOCATION:LG7 Community Garden
SUMMARY:Watermelon Growing Workshops: From Planting to Harvest
UID:46658
END:VEVENT
BEGIN:VEVENT
DTSTAMP;TZID=Asia/Hong_Kong:20260422T152902
DTSTART;TZID=Asia/Hong_Kong:20260324T130000
DTEND;TZID=Asia/Hong_Kong:20260324T170000
LOCATION:LG7 Community Garden
SUMMARY:Watermelon Growing Workshops: From Planting to Harvest
UID:46658
END:VEVENT
BEGIN:VEVENT
DTSTAMP;TZID=Asia/Hong_Kong:20260422T152902
DTSTART;TZID=Asia/Hong_Kong:20260325T130000
DTEND;TZID=Asia/Hong_Kong:20260325T170000
LOCATION:LG7 Community Garden
SUMMARY:Watermelon Growing Workshops: From Planting to Harvest
UID:46658
END:VEVENT
BEGIN:VEVENT
DTSTAMP;TZID=Asia/Hong_Kong:20260422T152902
DTSTART;TZID=Asia/Hong_Kong:20260326T130000
DTEND;TZID=Asia/Hong_Kong:20260326T170000
LOCATION:LG7 Community Garden
SUMMARY:Watermelon Growing Workshops: From Planting to Harvest
UID:46658
END:VEVENT
BEGIN:VEVENT
DTSTAMP;TZID=Asia/Hong_Kong:20260422T152902
DTSTART;TZID=Asia/Hong_Kong:20260327T130000
DTEND;TZID=Asia/Hong_Kong:20260327T170000
LOCATION:LG7 Community Garden
SUMMARY:Watermelon Growing Workshops: From Planting to Harvest
UID:46658
END:VEVENT
BEGIN:VEVENT
DTSTAMP;TZID=Asia/Hong_Kong:20260422T152902
DTSTART;TZID=Asia/Hong_Kong:20260328T130000
DTEND;TZID=Asia/Hong_Kong:20260328T170000
LOCATION:LG7 Community Garden
SUMMARY:Watermelon Growing Workshops: From Planting to Harvest
UID:46658
END:VEVENT
BEGIN:VEVENT
DTSTAMP;TZID=Asia/Hong_Kong:20260422T152902
DTSTART;TZID=Asia/Hong_Kong:20260329T130000
DTEND;TZID=Asia/Hong_Kong:20260329T170000
LOCATION:LG7 Community Garden
SUMMARY:Watermelon Growing Workshops: From Planting to Harvest
UID:46658
END:VEVENT
BEGIN:VEVENT
DTSTAMP;TZID=Asia/Hong_Kong:20260422T152902
DTSTART;TZID=Asia/Hong_Kong:20260330T130000
DTEND;TZID=Asia/Hong_Kong:20260330T170000
LOCATION:LG7 Community Garden
SUMMARY:Watermelon Growing Workshops: From Planting to Harvest
UID:46658
END:VEVENT
BEGIN:VEVENT
DTSTAMP;TZID=Asia/Hong_Kong:20260422T152902
DTSTART;TZID=Asia/Hong_Kong:20260331T130000
DTEND;TZID=Asia/Hong_Kong:20260331T170000
LOCATION:LG7 Community Garden
SUMMARY:Watermelon Growing Workshops: From Planting to Harvest
UID:46658
END:VEVENT
BEGIN:VEVENT
DTSTAMP;TZID=Asia/Hong_Kong:20260422T152902
DTSTART;TZID=Asia/Hong_Kong:20260401T130000
DTEND;TZID=Asia/Hong_Kong:20260401T170000
LOCATION:LG7 Community Garden
SUMMARY:Watermelon Growing Workshops: From Planting to Harvest
UID:46658
END:VEVENT
BEGIN:VEVENT
DTSTAMP;TZID=Asia/Hong_Kong:20260422T152902
DTSTART;TZID=Asia/Hong_Kong:20260402T130000
DTEND;TZID=Asia/Hong_Kong:20260402T170000
LOCATION:LG7 Community Garden
SUMMARY:Watermelon Growing Workshops: From Planting to Harvest
UID:46658
END:VEVENT
BEGIN:VEVENT
DTSTAMP;TZID=Asia/Hong_Kong:20260422T152902
DTSTART;TZID=Asia/Hong_Kong:20260403T130000
DTEND;TZID=Asia/Hong_Kong:20260403T170000
LOCATION:LG7 Community Garden
SUMMARY:Watermelon Growing Workshops: From Planting to Harvest
UID:46658
END:VEVENT
BEGIN:VEVENT
DTSTAMP;TZID=Asia/Hong_Kong:20260422T152902
DTSTART;TZID=Asia/Hong_Kong:20260404T130000
DTEND;TZID=Asia/Hong_Kong:20260404T170000
LOCATION:LG7 Community Garden
SUMMARY:Watermelon Growing Workshops: From Planting to Harvest
UID:46658
END:VEVENT
BEGIN:VEVENT
DTSTAMP;TZID=Asia/Hong_Kong:20260422T152902
DTSTART;TZID=Asia/Hong_Kong:20260405T130000
DTEND;TZID=Asia/Hong_Kong:20260405T170000
LOCATION:LG7 Community Garden
SUMMARY:Watermelon Growing Workshops: From Planting to Harvest
UID:46658
END:VEVENT
BEGIN:VEVENT
DTSTAMP;TZID=Asia/Hong_Kong:20260422T152902
DTSTART;TZID=Asia/Hong_Kong:20260406T130000
DTEND;TZID=Asia/Hong_Kong:20260406T170000
LOCATION:LG7 Community Garden
SUMMARY:Watermelon Growing Workshops: From Planting to Harvest
UID:46658
END:VEVENT
BEGIN:VEVENT
DTSTAMP;TZID=Asia/Hong_Kong:20260422T152902
DTSTART;TZID=Asia/Hong_Kong:20260407T130000
DTEND;TZID=Asia/Hong_Kong:20260407T170000
LOCATION:LG7 Community Garden
SUMMARY:Watermelon Growing Workshops: From Planting to Harvest
UID:46658
END:VEVENT
BEGIN:VEVENT
DTSTAMP;TZID=Asia/Hong_Kong:20260422T152902
DTSTART;TZID=Asia/Hong_Kong:20260408T130000
DTEND;TZID=Asia/Hong_Kong:20260408T170000
LOCATION:LG7 Community Garden
SUMMARY:Watermelon Growing Workshops: From Planting to Harvest
UID:46658
END:VEVENT
BEGIN:VEVENT
DTSTAMP;TZID=Asia/Hong_Kong:20260422T152902
DTSTART;TZID=Asia/Hong_Kong:20260409T130000
DTEND;TZID=Asia/Hong_Kong:20260409T170000
LOCATION:LG7 Community Garden
SUMMARY:Watermelon Growing Workshops: From Planting to Harvest
UID:46658
END:VEVENT
BEGIN:VEVENT
DTSTAMP;TZID=Asia/Hong_Kong:20260422T152902
DTSTART;TZID=Asia/Hong_Kong:20260410T130000
DTEND;TZID=Asia/Hong_Kong:20260410T170000
LOCATION:LG7 Community Garden
SUMMARY:Watermelon Growing Workshops: From Planting to Harvest
UID:46658
END:VEVENT
BEGIN:VEVENT
DTSTAMP;TZID=Asia/Hong_Kong:20260422T152902
DTSTART;TZID=Asia/Hong_Kong:20260411T130000
DTEND;TZID=Asia/Hong_Kong:20260411T170000
LOCATION:LG7 Community Garden
SUMMARY:Watermelon Growing Workshops: From Planting to Harvest
UID:46658
END:VEVENT
BEGIN:VEVENT
DTSTAMP;TZID=Asia/Hong_Kong:20260422T152902
DTSTART;TZID=Asia/Hong_Kong:20260412T130000
DTEND;TZID=Asia/Hong_Kong:20260412T170000
LOCATION:LG7 Community Garden
SUMMARY:Watermelon Growing Workshops: From Planting to Harvest
UID:46658
END:VEVENT
BEGIN:VEVENT
DTSTAMP;TZID=Asia/Hong_Kong:20260422T152902
DTSTART;TZID=Asia/Hong_Kong:20260413T130000
DTEND;TZID=Asia/Hong_Kong:20260413T170000
LOCATION:LG7 Community Garden
SUMMARY:Watermelon Growing Workshops: From Planting to Harvest
UID:46658
END:VEVENT
BEGIN:VEVENT
DTSTAMP;TZID=Asia/Hong_Kong:20260422T152902
DTSTART;TZID=Asia/Hong_Kong:20260414T130000
DTEND;TZID=Asia/Hong_Kong:20260414T170000
LOCATION:LG7 Community Garden
SUMMARY:Watermelon Growing Workshops: From Planting to Harvest
UID:46658
END:VEVENT
BEGIN:VEVENT
DTSTAMP;TZID=Asia/Hong_Kong:20260422T152902
DTSTART;TZID=Asia/Hong_Kong:20260415T130000
DTEND;TZID=Asia/Hong_Kong:20260415T170000
LOCATION:LG7 Community Garden
SUMMARY:Watermelon Growing Workshops: From Planting to Harvest
UID:46658
END:VEVENT
BEGIN:VEVENT
DTSTAMP;TZID=Asia/Hong_Kong:20260422T152902
DTSTART;TZID=Asia/Hong_Kong:20260416T130000
DTEND;TZID=Asia/Hong_Kong:20260416T170000
LOCATION:LG7 Community Garden
SUMMARY:Watermelon Growing Workshops: From Planting to Harvest
UID:46658
END:VEVENT
BEGIN:VEVENT
DTSTAMP;TZID=Asia/Hong_Kong:20260422T152902
DTSTART;TZID=Asia/Hong_Kong:20260417T130000
DTEND;TZID=Asia/Hong_Kong:20260417T170000
LOCATION:LG7 Community Garden
SUMMARY:Watermelon Growing Workshops: From Planting to Harvest
UID:46658
END:VEVENT
BEGIN:VEVENT
DTSTAMP;TZID=Asia/Hong_Kong:20260422T152902
DTSTART;TZID=Asia/Hong_Kong:20260418T130000
DTEND;TZID=Asia/Hong_Kong:20260418T170000
LOCATION:LG7 Community Garden
SUMMARY:Watermelon Growing Workshops: From Planting to Harvest
UID:46658
END:VEVENT
BEGIN:VEVENT
DTSTAMP;TZID=Asia/Hong_Kong:20260422T152902
DTSTART;TZID=Asia/Hong_Kong:20260419T130000
DTEND;TZID=Asia/Hong_Kong:20260419T170000
LOCATION:LG7 Community Garden
SUMMARY:Watermelon Growing Workshops: From Planting to Harvest
UID:46658
END:VEVENT
BEGIN:VEVENT
DTSTAMP;TZID=Asia/Hong_Kong:20260422T152902
DTSTART;TZID=Asia/Hong_Kong:20260420T130000
DTEND;TZID=Asia/Hong_Kong:20260420T170000
LOCATION:LG7 Community Garden
SUMMARY:Watermelon Growing Workshops: From Planting to Harvest
UID:46658
END:VEVENT
BEGIN:VEVENT
DTSTAMP;TZID=Asia/Hong_Kong:20260422T152902
DTSTART;TZID=Asia/Hong_Kong:20260421T130000
DTEND;TZID=Asia/Hong_Kong:20260421T170000
LOCATION:LG7 Community Garden
SUMMARY:Watermelon Growing Workshops: From Planting to Harvest
UID:46658
END:VEVENT
BEGIN:VEVENT
DTSTAMP;TZID=Asia/Hong_Kong:20260422T152902
DTSTART;TZID=Asia/Hong_Kong:20260422T130000
DTEND;TZID=Asia/Hong_Kong:20260422T170000
LOCATION:LG7 Community Garden
SUMMARY:Watermelon Growing Workshops: From Planting to Harvest
UID:46658
END:VEVENT
BEGIN:VEVENT
DTSTAMP;TZID=Asia/Hong_Kong:20260422T152902
DTSTART;TZID=Asia/Hong_Kong:20260423T130000
DTEND;TZID=Asia/Hong_Kong:20260423T170000
LOCATION:LG7 Community Garden
SUMMARY:Watermelon Growing Workshops: From Planting to Harvest
UID:46658
END:VEVENT
BEGIN:VEVENT
DTSTAMP;TZID=Asia/Hong_Kong:20260422T152902
DTSTART;TZID=Asia/Hong_Kong:20260424T130000
DTEND;TZID=Asia/Hong_Kong:20260424T170000
LOCATION:LG7 Community Garden
SUMMARY:Watermelon Growing Workshops: From Planting to Harvest
UID:46658
END:VEVENT
BEGIN:VEVENT
DTSTAMP;TZID=Asia/Hong_Kong:20260422T152902
DTSTART;TZID=Asia/Hong_Kong:20260425T130000
DTEND;TZID=Asia/Hong_Kong:20260425T170000
LOCATION:LG7 Community Garden
SUMMARY:Watermelon Growing Workshops: From Planting to Harvest
UID:46658
END:VEVENT
BEGIN:VEVENT
DTSTAMP;TZID=Asia/Hong_Kong:20260422T152902
DTSTART;TZID=Asia/Hong_Kong:20260426T130000
DTEND;TZID=Asia/Hong_Kong:20260426T170000
LOCATION:LG7 Community Garden
SUMMARY:Watermelon Growing Workshops: From Planting to Harvest
UID:46658
END:VEVENT
BEGIN:VEVENT
DTSTAMP;TZID=Asia/Hong_Kong:20260422T152902
DTSTART;TZID=Asia/Hong_Kong:20260427T130000
DTEND;TZID=Asia/Hong_Kong:20260427T170000
LOCATION:LG7 Community Garden
SUMMARY:Watermelon Growing Workshops: From Planting to Harvest
UID:46658
END:VEVENT
BEGIN:VEVENT
DTSTAMP;TZID=Asia/Hong_Kong:20260422T152902
DTSTART;TZID=Asia/Hong_Kong:20260428T130000
DTEND;TZID=Asia/Hong_Kong:20260428T170000
LOCATION:LG7 Community Garden
SUMMARY:Watermelon Growing Workshops: From Planting to Harvest
UID:46658
END:VEVENT
BEGIN:VEVENT
DTSTAMP;TZID=Asia/Hong_Kong:20260422T152902
DTSTART;TZID=Asia/Hong_Kong:20260429T130000
DTEND;TZID=Asia/Hong_Kong:20260429T170000
LOCATION:LG7 Community Garden
SUMMARY:Watermelon Growing Workshops: From Planting to Harvest
UID:46658
END:VEVENT
BEGIN:VEVENT
DTSTAMP;TZID=Asia/Hong_Kong:20260422T152902
DTSTART;TZID=Asia/Hong_Kong:20260430T130000
DTEND;TZID=Asia/Hong_Kong:20260430T170000
LOCATION:LG7 Community Garden
SUMMARY:Watermelon Growing Workshops: From Planting to Harvest
UID:46658
END:VEVENT
BEGIN:VEVENT
DTSTAMP;TZID=Asia/Hong_Kong:20260422T152902
DTSTART;TZID=Asia/Hong_Kong:20260501T130000
DTEND;TZID=Asia/Hong_Kong:20260501T170000
LOCATION:LG7 Community Garden
SUMMARY:Watermelon Growing Workshops: From Planting to Harvest
UID:46658
END:VEVENT
BEGIN:VEVENT
DTSTAMP;TZID=Asia/Hong_Kong:20260422T152902
DTSTART;TZID=Asia/Hong_Kong:20260502T130000
DTEND;TZID=Asia/Hong_Kong:20260502T170000
LOCATION:LG7 Community Garden
SUMMARY:Watermelon Growing Workshops: From Planting to Harvest
UID:46658
END:VEVENT
BEGIN:VEVENT
DTSTAMP;TZID=Asia/Hong_Kong:20260422T152902
DTSTART;TZID=Asia/Hong_Kong:20260503T130000
DTEND;TZID=Asia/Hong_Kong:20260503T170000
LOCATION:LG7 Community Garden
SUMMARY:Watermelon Growing Workshops: From Planting to Harvest
UID:46658
END:VEVENT
BEGIN:VEVENT
DTSTAMP;TZID=Asia/Hong_Kong:20260422T152902
DTSTART;TZID=Asia/Hong_Kong:20260504T130000
DTEND;TZID=Asia/Hong_Kong:20260504T170000
LOCATION:LG7 Community Garden
SUMMARY:Watermelon Growing Workshops: From Planting to Harvest
UID:46658
END:VEVENT
BEGIN:VEVENT
DTSTAMP;TZID=Asia/Hong_Kong:20260422T152902
DTSTART;TZID=Asia/Hong_Kong:20260505T130000
DTEND;TZID=Asia/Hong_Kong:20260505T170000
LOCATION:LG7 Community Garden
SUMMARY:Watermelon Growing Workshops: From Planting to Harvest
UID:46658
END:VEVENT
BEGIN:VEVENT
DTSTAMP;TZID=Asia/Hong_Kong:20260422T152902
DTSTART;TZID=Asia/Hong_Kong:20260506T130000
DTEND;TZID=Asia/Hong_Kong:20260506T170000
LOCATION:LG7 Community Garden
SUMMARY:Watermelon Growing Workshops: From Planting to Harvest
UID:46658
END:VEVENT
BEGIN:VEVENT
DTSTAMP;TZID=Asia/Hong_Kong:20260422T152902
DTSTART;TZID=Asia/Hong_Kong:20260507T130000
DTEND;TZID=Asia/Hong_Kong:20260507T170000
LOCATION:LG7 Community Garden
SUMMARY:Watermelon Growing Workshops: From Planting to Harvest
UID:46658
END:VEVENT
BEGIN:VEVENT
DTSTAMP;TZID=Asia/Hong_Kong:20260422T152902
DTSTART;TZID=Asia/Hong_Kong:20260508T130000
DTEND;TZID=Asia/Hong_Kong:20260508T170000
LOCATION:LG7 Community Garden
SUMMARY:Watermelon Growing Workshops: From Planting to Harvest
UID:46658
END:VEVENT
BEGIN:VEVENT
DTSTAMP;TZID=Asia/Hong_Kong:20260422T152902
DTSTART;TZID=Asia/Hong_Kong:20260509T130000
DTEND;TZID=Asia/Hong_Kong:20260509T170000
LOCATION:LG7 Community Garden
SUMMARY:Watermelon Growing Workshops: From Planting to Harvest
UID:46658
END:VEVENT
BEGIN:VEVENT
DTSTAMP;TZID=Asia/Hong_Kong:20260422T152902
DTSTART;TZID=Asia/Hong_Kong:20260510T130000
DTEND;TZID=Asia/Hong_Kong:20260510T170000
LOCATION:LG7 Community Garden
SUMMARY:Watermelon Growing Workshops: From Planting to Harvest
UID:46658
END:VEVENT
BEGIN:VEVENT
DTSTAMP;TZID=Asia/Hong_Kong:20260422T152902
DTSTART;TZID=Asia/Hong_Kong:20260511T130000
DTEND;TZID=Asia/Hong_Kong:20260511T170000
LOCATION:LG7 Community Garden
SUMMARY:Watermelon Growing Workshops: From Planting to Harvest
UID:46658
END:VEVENT
BEGIN:VEVENT
DTSTAMP;TZID=Asia/Hong_Kong:20260422T152902
DTSTART;TZID=Asia/Hong_Kong:20260512T130000
DTEND;TZID=Asia/Hong_Kong:20260512T170000
LOCATION:LG7 Community Garden
SUMMARY:Watermelon Growing Workshops: From Planting to Harvest
UID:46658
END:VEVENT
BEGIN:VEVENT
DTSTAMP;TZID=Asia/Hong_Kong:20260422T152902
DTSTART;TZID=Asia/Hong_Kong:20260513T130000
DTEND;TZID=Asia/Hong_Kong:20260513T170000
LOCATION:LG7 Community Garden
SUMMARY:Watermelon Growing Workshops: From Planting to Harvest
UID:46658
END:VEVENT
BEGIN:VEVENT
DTSTAMP;TZID=Asia/Hong_Kong:20260422T152902
DTSTART;TZID=Asia/Hong_Kong:20260514T130000
DTEND;TZID=Asia/Hong_Kong:20260514T170000
LOCATION:LG7 Community Garden
SUMMARY:Watermelon Growing Workshops: From Planting to Harvest
UID:46658
END:VEVENT
BEGIN:VEVENT
DTSTAMP;TZID=Asia/Hong_Kong:20260422T152902
DTSTART;TZID=Asia/Hong_Kong:20260515T130000
DTEND;TZID=Asia/Hong_Kong:20260515T170000
LOCATION:LG7 Community Garden
SUMMARY:Watermelon Growing Workshops: From Planting to Harvest
UID:46658
END:VEVENT
BEGIN:VEVENT
DTSTAMP;TZID=Asia/Hong_Kong:20260422T152902
DTSTART;TZID=Asia/Hong_Kong:20260516T130000
DTEND;TZID=Asia/Hong_Kong:20260516T170000
LOCATION:LG7 Community Garden
SUMMARY:Watermelon Growing Workshops: From Planting to Harvest
UID:46658
END:VEVENT
BEGIN:VEVENT
DTSTAMP;TZID=Asia/Hong_Kong:20260422T152902
DTSTART;TZID=Asia/Hong_Kong:20260517T130000
DTEND;TZID=Asia/Hong_Kong:20260517T170000
LOCATION:LG7 Community Garden
SUMMARY:Watermelon Growing Workshops: From Planting to Harvest
UID:46658
END:VEVENT
BEGIN:VEVENT
DTSTAMP;TZID=Asia/Hong_Kong:20260422T152902
DTSTART;TZID=Asia/Hong_Kong:20260518T130000
DTEND;TZID=Asia/Hong_Kong:20260518T170000
LOCATION:LG7 Community Garden
SUMMARY:Watermelon Growing Workshops: From Planting to Harvest
UID:46658
END:VEVENT
BEGIN:VEVENT
DTSTAMP;TZID=Asia/Hong_Kong:20260422T152902
DTSTART;TZID=Asia/Hong_Kong:20260519T130000
DTEND;TZID=Asia/Hong_Kong:20260519T170000
LOCATION:LG7 Community Garden
SUMMARY:Watermelon Growing Workshops: From Planting to Harvest
UID:46658
END:VEVENT
BEGIN:VEVENT
DTSTAMP;TZID=Asia/Hong_Kong:20260422T152902
DTSTART;TZID=Asia/Hong_Kong:20260520T130000
DTEND;TZID=Asia/Hong_Kong:20260520T170000
LOCATION:LG7 Community Garden
SUMMARY:Watermelon Growing Workshops: From Planting to Harvest
UID:46658
END:VEVENT
BEGIN:VEVENT
DTSTAMP;TZID=Asia/Hong_Kong:20260422T152902
DTSTART;TZID=Asia/Hong_Kong:20260521T130000
DTEND;TZID=Asia/Hong_Kong:20260521T170000
LOCATION:LG7 Community Garden
SUMMARY:Watermelon Growing Workshops: From Planting to Harvest
UID:46658
END:VEVENT
BEGIN:VEVENT
DTSTAMP;TZID=Asia/Hong_Kong:20260422T152902
DTSTART;TZID=Asia/Hong_Kong:20260522T130000
DTEND;TZID=Asia/Hong_Kong:20260522T170000
LOCATION:LG7 Community Garden
SUMMARY:Watermelon Growing Workshops: From Planting to Harvest
UID:46658
END:VEVENT
BEGIN:VEVENT
DTSTAMP;TZID=Asia/Hong_Kong:20260422T152902
DTSTART;TZID=Asia/Hong_Kong:20260523T130000
DTEND;TZID=Asia/Hong_Kong:20260523T170000
LOCATION:LG7 Community Garden
SUMMARY:Watermelon Growing Workshops: From Planting to Harvest
UID:46658
END:VEVENT
BEGIN:VEVENT
DTSTAMP;TZID=Asia/Hong_Kong:20260422T152902
DTSTART;TZID=Asia/Hong_Kong:20260524T130000
DTEND;TZID=Asia/Hong_Kong:20260524T170000
LOCATION:LG7 Community Garden
SUMMARY:Watermelon Growing Workshops: From Planting to Harvest
UID:46658
END:VEVENT
BEGIN:VEVENT
DTSTAMP;TZID=Asia/Hong_Kong:20260422T152902
DTSTART;TZID=Asia/Hong_Kong:20260525T130000
DTEND;TZID=Asia/Hong_Kong:20260525T170000
LOCATION:LG7 Community Garden
SUMMARY:Watermelon Growing Workshops: From Planting to Harvest
UID:46658
END:VEVENT
BEGIN:VEVENT
DTSTAMP;TZID=Asia/Hong_Kong:20260422T152902
DTSTART;TZID=Asia/Hong_Kong:20260526T130000
DTEND;TZID=Asia/Hong_Kong:20260526T170000
LOCATION:LG7 Community Garden
SUMMARY:Watermelon Growing Workshops: From Planting to Harvest
UID:46658
END:VEVENT
BEGIN:VEVENT
DTSTAMP;TZID=Asia/Hong_Kong:20260422T152902
DTSTART;TZID=Asia/Hong_Kong:20260527T130000
DTEND;TZID=Asia/Hong_Kong:20260527T170000
LOCATION:LG7 Community Garden
SUMMARY:Watermelon Growing Workshops: From Planting to Harvest
UID:46658
END:VEVENT
BEGIN:VEVENT
DTSTAMP;TZID=Asia/Hong_Kong:20260422T152902
DTSTART;TZID=Asia/Hong_Kong:20260528T130000
DTEND;TZID=Asia/Hong_Kong:20260528T170000
LOCATION:LG7 Community Garden
SUMMARY:Watermelon Growing Workshops: From Planting to Harvest
UID:46658
END:VEVENT
BEGIN:VEVENT
DTSTAMP;TZID=Asia/Hong_Kong:20260422T152902
DTSTART;TZID=Asia/Hong_Kong:20260529T130000
DTEND;TZID=Asia/Hong_Kong:20260529T170000
LOCATION:LG7 Community Garden
SUMMARY:Watermelon Growing Workshops: From Planting to Harvest
UID:46658
END:VEVENT
BEGIN:VEVENT
DTSTAMP;TZID=Asia/Hong_Kong:20260422T152902
DTSTART;TZID=Asia/Hong_Kong:20260530T130000
DTEND;TZID=Asia/Hong_Kong:20260530T170000
LOCATION:LG7 Community Garden
SUMMARY:Watermelon Growing Workshops: From Planting to Harvest
UID:46658
END:VEVENT
BEGIN:VEVENT
DTSTAMP;TZID=Asia/Hong_Kong:20260422T152902
DTSTART;TZID=Asia/Hong_Kong:20260531T130000
DTEND;TZID=Asia/Hong_Kong:20260531T170000
LOCATION:LG7 Community Garden
SUMMARY:Watermelon Growing Workshops: From Planting to Harvest
UID:46658
END:VEVENT
BEGIN:VEVENT
DTSTAMP;TZID=Asia/Hong_Kong:20260422T152902
DTSTART;TZID=Asia/Hong_Kong:20260601T130000
DTEND;TZID=Asia/Hong_Kong:20260601T170000
LOCATION:LG7 Community Garden
SUMMARY:Watermelon Growing Workshops: From Planting to Harvest
UID:46658
END:VEVENT
BEGIN:VEVENT
DTSTAMP;TZID=Asia/Hong_Kong:20260422T152902
DTSTART;TZID=Asia/Hong_Kong:20260602T130000
DTEND;TZID=Asia/Hong_Kong:20260602T170000
LOCATION:LG7 Community Garden
SUMMARY:Watermelon Growing Workshops: From Planting to Harvest
UID:46658
END:VEVENT
BEGIN:VEVENT
DTSTAMP;TZID=Asia/Hong_Kong:20260422T152902
DTSTART;TZID=Asia/Hong_Kong:20260603T130000
DTEND;TZID=Asia/Hong_Kong:20260603T170000
LOCATION:LG7 Community Garden
SUMMARY:Watermelon Growing Workshops: From Planting to Harvest
UID:46658
END:VEVENT
BEGIN:VEVENT
DTSTAMP;TZID=Asia/Hong_Kong:20260422T152902
DTSTART;TZID=Asia/Hong_Kong:20260604T130000
DTEND;TZID=Asia/Hong_Kong:20260604T170000
LOCATION:LG7 Community Garden
SUMMARY:Watermelon Growing Workshops: From Planting to Harvest
UID:46658
END:VEVENT
BEGIN:VEVENT
DTSTAMP;TZID=Asia/Hong_Kong:20260422T152902
DTSTART;TZID=Asia/Hong_Kong:20260605T130000
DTEND;TZID=Asia/Hong_Kong:20260605T170000
LOCATION:LG7 Community Garden
SUMMARY:Watermelon Growing Workshops: From Planting to Harvest
UID:46658
END:VEVENT
BEGIN:VEVENT
DTSTAMP;TZID=Asia/Hong_Kong:20260422T152902
DTSTART;TZID=Asia/Hong_Kong:20260606T130000
DTEND;TZID=Asia/Hong_Kong:20260606T170000
LOCATION:LG7 Community Garden
SUMMARY:Watermelon Growing Workshops: From Planting to Harvest
UID:46658
END:VEVENT
BEGIN:VEVENT
DTSTAMP;TZID=Asia/Hong_Kong:20260422T152902
DTSTART;TZID=Asia/Hong_Kong:20260607T130000
DTEND;TZID=Asia/Hong_Kong:20260607T170000
LOCATION:LG7 Community Garden
SUMMARY:Watermelon Growing Workshops: From Planting to Harvest
UID:46658
END:VEVENT
BEGIN:VEVENT
DTSTAMP;TZID=Asia/Hong_Kong:20260422T152902
DTSTART;TZID=Asia/Hong_Kong:20260608T130000
DTEND;TZID=Asia/Hong_Kong:20260608T170000
LOCATION:LG7 Community Garden
SUMMARY:Watermelon Growing Workshops: From Planting to Harvest
UID:46658
END:VEVENT
BEGIN:VEVENT
DTSTAMP;TZID=Asia/Hong_Kong:20260422T152902
DTSTART;TZID=Asia/Hong_Kong:20260609T130000
DTEND;TZID=Asia/Hong_Kong:20260609T170000
LOCATION:LG7 Community Garden
SUMMARY:Watermelon Growing Workshops: From Planting to Harvest
UID:46658
END:VEVENT
BEGIN:VEVENT
DTSTAMP;TZID=Asia/Hong_Kong:20260422T152902
DTSTART;TZID=Asia/Hong_Kong:20260610T130000
DTEND;TZID=Asia/Hong_Kong:20260610T170000
LOCATION:LG7 Community Garden
SUMMARY:Watermelon Growing Workshops: From Planting to Harvest
UID:46658
END:VEVENT
BEGIN:VEVENT
DTSTAMP;TZID=Asia/Hong_Kong:20260422T152902
DTSTART;TZID=Asia/Hong_Kong:20260611T130000
DTEND;TZID=Asia/Hong_Kong:20260611T170000
LOCATION:LG7 Community Garden
SUMMARY:Watermelon Growing Workshops: From Planting to Harvest
UID:46658
END:VEVENT
BEGIN:VEVENT
DTSTAMP;TZID=Asia/Hong_Kong:20260422T152902
DTSTART;TZID=Asia/Hong_Kong:20260612T130000
DTEND;TZID=Asia/Hong_Kong:20260612T170000
LOCATION:LG7 Community Garden
SUMMARY:Watermelon Growing Workshops: From Planting to Harvest
UID:46658
END:VEVENT
BEGIN:VEVENT
DTSTAMP;TZID=Asia/Hong_Kong:20260422T152902
DTSTART;TZID=Asia/Hong_Kong:20260613T130000
DTEND;TZID=Asia/Hong_Kong:20260613T170000
LOCATION:LG7 Community Garden
SUMMARY:Watermelon Growing Workshops: From Planting to Harvest
UID:46658
END:VEVENT
BEGIN:VEVENT
DTSTAMP;TZID=Asia/Hong_Kong:20260422T152902
DTSTART;TZID=Asia/Hong_Kong:20260614T130000
DTEND;TZID=Asia/Hong_Kong:20260614T170000
LOCATION:LG7 Community Garden
SUMMARY:Watermelon Growing Workshops: From Planting to Harvest
UID:46658
END:VEVENT
BEGIN:VEVENT
DTSTAMP;TZID=Asia/Hong_Kong:20260422T152902
DTSTART;TZID=Asia/Hong_Kong:20260615T130000
DTEND;TZID=Asia/Hong_Kong:20260615T170000
LOCATION:LG7 Community Garden
SUMMARY:Watermelon Growing Workshops: From Planting to Harvest
UID:46658
END:VEVENT
BEGIN:VEVENT
DTSTAMP;TZID=Asia/Hong_Kong:20260422T152902
DTSTART;TZID=Asia/Hong_Kong:20260616T130000
DTEND;TZID=Asia/Hong_Kong:20260616T170000
LOCATION:LG7 Community Garden
SUMMARY:Watermelon Growing Workshops: From Planting to Harvest
UID:46658
END:VEVENT
BEGIN:VEVENT
DTSTAMP;TZID=Asia/Hong_Kong:20260422T152902
DTSTART;TZID=Asia/Hong_Kong:20260617T130000
DTEND;TZID=Asia/Hong_Kong:20260617T170000
LOCATION:LG7 Community Garden
SUMMARY:Watermelon Growing Workshops: From Planting to Harvest
UID:46658
END:VEVENT
BEGIN:VEVENT
DTSTAMP;TZID=Asia/Hong_Kong:20260422T152902
DTSTART;TZID=Asia/Hong_Kong:20260618T130000
DTEND;TZID=Asia/Hong_Kong:20260618T170000
LOCATION:LG7 Community Garden
SUMMARY:Watermelon Growing Workshops: From Planting to Harvest
UID:46658
END:VEVENT
BEGIN:VEVENT
DTSTAMP;TZID=Asia/Hong_Kong:20260422T152902
DTSTART;TZID=Asia/Hong_Kong:20260619T130000
DTEND;TZID=Asia/Hong_Kong:20260619T170000
LOCATION:LG7 Community Garden
SUMMARY:Watermelon Growing Workshops: From Planting to Harvest
UID:46658
END:VEVENT
BEGIN:VEVENT
DTSTAMP;TZID=Asia/Hong_Kong:20260422T152902
DTSTART;TZID=Asia/Hong_Kong:20260620T130000
DTEND;TZID=Asia/Hong_Kong:20260620T170000
LOCATION:LG7 Community Garden
SUMMARY:Watermelon Growing Workshops: From Planting to Harvest
UID:46658
END:VEVENT
BEGIN:VEVENT
DTSTAMP;TZID=Asia/Hong_Kong:20260422T152902
DTSTART;TZID=Asia/Hong_Kong:20260621T130000
DTEND;TZID=Asia/Hong_Kong:20260621T170000
LOCATION:LG7 Community Garden
SUMMARY:Watermelon Growing Workshops: From Planting to Harvest
UID:46658
END:VEVENT
BEGIN:VEVENT
DTSTAMP;TZID=Asia/Hong_Kong:20260422T152902
DTSTART;TZID=Asia/Hong_Kong:20260622T130000
DTEND;TZID=Asia/Hong_Kong:20260622T170000
LOCATION:LG7 Community Garden
SUMMARY:Watermelon Growing Workshops: From Planting to Harvest
UID:46658
END:VEVENT
BEGIN:VEVENT
DTSTAMP;TZID=Asia/Hong_Kong:20260422T152902
DTSTART;TZID=Asia/Hong_Kong:20260623T130000
DTEND;TZID=Asia/Hong_Kong:20260623T170000
LOCATION:LG7 Community Garden
SUMMARY:Watermelon Growing Workshops: From Planting to Harvest
UID:46658
END:VEVENT
BEGIN:VEVENT
DTSTAMP;TZID=Asia/Hong_Kong:20260422T152902
DTSTART;TZID=Asia/Hong_Kong:20260624T130000
DTEND;TZID=Asia/Hong_Kong:20260624T170000
LOCATION:LG7 Community Garden
SUMMARY:Watermelon Growing Workshops: From Planting to Harvest
UID:46658
END:VEVENT
BEGIN:VEVENT
DTSTAMP;TZID=Asia/Hong_Kong:20260422T152902
DTSTART;TZID=Asia/Hong_Kong:20260625T130000
DTEND;TZID=Asia/Hong_Kong:20260625T170000
LOCATION:LG7 Community Garden
SUMMARY:Watermelon Growing Workshops: From Planting to Harvest
UID:46658
END:VEVENT
BEGIN:VEVENT
DTSTAMP;TZID=Asia/Hong_Kong:20260422T152902
DTSTART;TZID=Asia/Hong_Kong:20260626T130000
DTEND;TZID=Asia/Hong_Kong:20260626T170000
LOCATION:LG7 Community Garden
SUMMARY:Watermelon Growing Workshops: From Planting to Harvest
UID:46658
END:VEVENT
BEGIN:VEVENT
DTSTAMP;TZID=Asia/Hong_Kong:20260422T152902
DTSTART;TZID=Asia/Hong_Kong:20260627T130000
DTEND;TZID=Asia/Hong_Kong:20260627T170000
LOCATION:LG7 Community Garden
SUMMARY:Watermelon Growing Workshops: From Planting to Harvest
UID:46658
END:VEVENT
BEGIN:VEVENT
DTSTAMP;TZID=Asia/Hong_Kong:20260422T152902
DTSTART;TZID=Asia/Hong_Kong:20260628T130000
DTEND;TZID=Asia/Hong_Kong:20260628T170000
LOCATION:LG7 Community Garden
SUMMARY:Watermelon Growing Workshops: From Planting to Harvest
UID:46658
END:VEVENT
BEGIN:VEVENT
DTSTAMP;TZID=Asia/Hong_Kong:20260422T152902
DTSTART;TZID=Asia/Hong_Kong:20260629T130000
DTEND;TZID=Asia/Hong_Kong:20260629T170000
LOCATION:LG7 Community Garden
SUMMARY:Watermelon Growing Workshops: From Planting to Harvest
UID:46658
END:VEVENT
BEGIN:VEVENT
DTSTAMP;TZID=Asia/Hong_Kong:20260422T152902
DTSTART;TZID=Asia/Hong_Kong:20260630T130000
DTEND;TZID=Asia/Hong_Kong:20260630T170000
LOCATION:LG7 Community Garden
SUMMARY:Watermelon Growing Workshops: From Planting to Harvest
UID:46658
END:VEVENT
END:VCALENDAR