BEGIN:VCALENDAR
PRODID:-//HKUST Drupal Platform//EN
VERSION:2.0
BEGIN:VTIMEZONE
TZID:Asia/Hong_Kong
BEGIN:STANDARD
DTSTART:20071104T020000
TZOFFSETFROM:+0700
TZOFFSETTO:+0800
TZNAME:HKT
END:STANDARD
END:VTIMEZONE
BEGIN:VEVENT
DTSTAMP;TZID=Asia/Hong_Kong:20260420T222315
DTSTART;TZID=Asia/Hong_Kong:20260427T103000
DTEND;TZID=Asia/Hong_Kong:20260427T120000
LOCATION:ZOOM
SUMMARY:Building Resilience and Managing Academic Stress
UID:46299
END:VEVENT
END:VCALENDAR