BEGIN:VCALENDAR
PRODID:-//HKUST Drupal Platform//EN
VERSION:2.0
BEGIN:VTIMEZONE
TZID:Asia/Hong_Kong
BEGIN:STANDARD
DTSTART:20071104T020000
TZOFFSETFROM:+0700
TZOFFSETTO:+0800
TZNAME:HKT
END:STANDARD
END:VTIMEZONE
BEGIN:VEVENT
DTSTAMP;TZID=Asia/Hong_Kong:20260420T194337
DTSTART;TZID=Asia/Hong_Kong:20250331T100000
DTEND;TZID=Asia/Hong_Kong:20250331T110000
LOCATION:E3-201 (ZOOM ID: 937 2462 3807 Passcode: 20250331)
SUMMARY:Public Research Seminar by Sustainable Energy and Environment (SEE) Thrust, HKUST (GZ)  - Bridging scales in atmospheric aerosol research: from fundamental understanding to advances in climate models
UID:43627
END:VEVENT
END:VCALENDAR