BEGIN:VCALENDAR
PRODID:-//HKUST Drupal Platform//EN
VERSION:2.0
BEGIN:VTIMEZONE
TZID:Asia/Hong_Kong
BEGIN:STANDARD
DTSTART:20071104T020000
TZOFFSETFROM:+0700
TZOFFSETTO:+0800
TZNAME:HKT
END:STANDARD
END:VTIMEZONE
BEGIN:VEVENT
DTSTAMP;TZID=Asia/Hong_Kong:20260426T020646
DTSTART;TZID=Asia/Hong_Kong:20210217T190000
DTEND;TZID=Asia/Hong_Kong:20210217T203000
LOCATION:Zoom
SUMMARY:GLOBAL CHINA HUMANITIES SERIES:  - 毛澤東宣佈「一邊倒」：1949前後中共與美、蘇關係的變化
UID:27495
END:VEVENT
END:VCALENDAR