BEGIN:VCALENDAR
PRODID:-//HKUST Drupal Platform//EN
VERSION:2.0
BEGIN:VTIMEZONE
TZID:Asia/Hong_Kong
BEGIN:STANDARD
DTSTART:20071104T020000
TZOFFSETFROM:+0700
TZOFFSETTO:+0800
TZNAME:HKT
END:STANDARD
END:VTIMEZONE
BEGIN:VEVENT
DTSTAMP;TZID=Asia/Hong_Kong:20260426T020646
DTSTART;TZID=Asia/Hong_Kong:20200924T140000
DTEND;TZID=Asia/Hong_Kong:20200924T170000
LOCATION:广东科学中心
SUMMARY:粤港澳科技合作论坛
UID:26772
END:VEVENT
END:VCALENDAR