BEGIN:VCALENDAR
PRODID:-//HKUST Drupal Platform//EN
VERSION:2.0
BEGIN:VTIMEZONE
TZID:Asia/Hong_Kong
BEGIN:STANDARD
DTSTART:20071104T020000
TZOFFSETFROM:+0700
TZOFFSETTO:+0800
TZNAME:HKT
END:STANDARD
END:VTIMEZONE
BEGIN:VEVENT
DTSTAMP;TZID=Asia/Hong_Kong:20260425T090817
DTSTART;TZID=Asia/Hong_Kong:20250508T090000
DTEND;TZID=Asia/Hong_Kong:20250508T210000
LOCATION:图书馆唐炳源唐温金美展览厅
SUMMARY:施子清博士九秩寿庆书法展《墨韵流芳》
UID:44074
END:VEVENT
BEGIN:VEVENT
DTSTAMP;TZID=Asia/Hong_Kong:20260425T090817
DTSTART;TZID=Asia/Hong_Kong:20250509T090000
DTEND;TZID=Asia/Hong_Kong:20250509T210000
LOCATION:图书馆唐炳源唐温金美展览厅
SUMMARY:施子清博士九秩寿庆书法展《墨韵流芳》
UID:44074
END:VEVENT
BEGIN:VEVENT
DTSTAMP;TZID=Asia/Hong_Kong:20260425T090817
DTSTART;TZID=Asia/Hong_Kong:20250510T090000
DTEND;TZID=Asia/Hong_Kong:20250510T210000
LOCATION:图书馆唐炳源唐温金美展览厅
SUMMARY:施子清博士九秩寿庆书法展《墨韵流芳》
UID:44074
END:VEVENT
BEGIN:VEVENT
DTSTAMP;TZID=Asia/Hong_Kong:20260425T090817
DTSTART;TZID=Asia/Hong_Kong:20250511T090000
DTEND;TZID=Asia/Hong_Kong:20250511T210000
LOCATION:图书馆唐炳源唐温金美展览厅
SUMMARY:施子清博士九秩寿庆书法展《墨韵流芳》
UID:44074
END:VEVENT
BEGIN:VEVENT
DTSTAMP;TZID=Asia/Hong_Kong:20260425T090817
DTSTART;TZID=Asia/Hong_Kong:20250512T090000
DTEND;TZID=Asia/Hong_Kong:20250512T210000
LOCATION:图书馆唐炳源唐温金美展览厅
SUMMARY:施子清博士九秩寿庆书法展《墨韵流芳》
UID:44074
END:VEVENT
BEGIN:VEVENT
DTSTAMP;TZID=Asia/Hong_Kong:20260425T090817
DTSTART;TZID=Asia/Hong_Kong:20250513T090000
DTEND;TZID=Asia/Hong_Kong:20250513T210000
LOCATION:图书馆唐炳源唐温金美展览厅
SUMMARY:施子清博士九秩寿庆书法展《墨韵流芳》
UID:44074
END:VEVENT
BEGIN:VEVENT
DTSTAMP;TZID=Asia/Hong_Kong:20260425T090817
DTSTART;TZID=Asia/Hong_Kong:20250514T090000
DTEND;TZID=Asia/Hong_Kong:20250514T210000
LOCATION:图书馆唐炳源唐温金美展览厅
SUMMARY:施子清博士九秩寿庆书法展《墨韵流芳》
UID:44074
END:VEVENT
BEGIN:VEVENT
DTSTAMP;TZID=Asia/Hong_Kong:20260425T090817
DTSTART;TZID=Asia/Hong_Kong:20250515T090000
DTEND;TZID=Asia/Hong_Kong:20250515T210000
LOCATION:图书馆唐炳源唐温金美展览厅
SUMMARY:施子清博士九秩寿庆书法展《墨韵流芳》
UID:44074
END:VEVENT
BEGIN:VEVENT
DTSTAMP;TZID=Asia/Hong_Kong:20260425T090817
DTSTART;TZID=Asia/Hong_Kong:20250516T090000
DTEND;TZID=Asia/Hong_Kong:20250516T210000
LOCATION:图书馆唐炳源唐温金美展览厅
SUMMARY:施子清博士九秩寿庆书法展《墨韵流芳》
UID:44074
END:VEVENT
BEGIN:VEVENT
DTSTAMP;TZID=Asia/Hong_Kong:20260425T090817
DTSTART;TZID=Asia/Hong_Kong:20250517T090000
DTEND;TZID=Asia/Hong_Kong:20250517T210000
LOCATION:图书馆唐炳源唐温金美展览厅
SUMMARY:施子清博士九秩寿庆书法展《墨韵流芳》
UID:44074
END:VEVENT
BEGIN:VEVENT
DTSTAMP;TZID=Asia/Hong_Kong:20260425T090817
DTSTART;TZID=Asia/Hong_Kong:20250518T090000
DTEND;TZID=Asia/Hong_Kong:20250518T210000
LOCATION:图书馆唐炳源唐温金美展览厅
SUMMARY:施子清博士九秩寿庆书法展《墨韵流芳》
UID:44074
END:VEVENT
BEGIN:VEVENT
DTSTAMP;TZID=Asia/Hong_Kong:20260425T090817
DTSTART;TZID=Asia/Hong_Kong:20250519T090000
DTEND;TZID=Asia/Hong_Kong:20250519T210000
LOCATION:图书馆唐炳源唐温金美展览厅
SUMMARY:施子清博士九秩寿庆书法展《墨韵流芳》
UID:44074
END:VEVENT
BEGIN:VEVENT
DTSTAMP;TZID=Asia/Hong_Kong:20260425T090817
DTSTART;TZID=Asia/Hong_Kong:20250520T090000
DTEND;TZID=Asia/Hong_Kong:20250520T210000
LOCATION:图书馆唐炳源唐温金美展览厅
SUMMARY:施子清博士九秩寿庆书法展《墨韵流芳》
UID:44074
END:VEVENT
BEGIN:VEVENT
DTSTAMP;TZID=Asia/Hong_Kong:20260425T090817
DTSTART;TZID=Asia/Hong_Kong:20250521T090000
DTEND;TZID=Asia/Hong_Kong:20250521T210000
LOCATION:图书馆唐炳源唐温金美展览厅
SUMMARY:施子清博士九秩寿庆书法展《墨韵流芳》
UID:44074
END:VEVENT
BEGIN:VEVENT
DTSTAMP;TZID=Asia/Hong_Kong:20260425T090817
DTSTART;TZID=Asia/Hong_Kong:20250522T090000
DTEND;TZID=Asia/Hong_Kong:20250522T210000
LOCATION:图书馆唐炳源唐温金美展览厅
SUMMARY:施子清博士九秩寿庆书法展《墨韵流芳》
UID:44074
END:VEVENT
BEGIN:VEVENT
DTSTAMP;TZID=Asia/Hong_Kong:20260425T090817
DTSTART;TZID=Asia/Hong_Kong:20250523T090000
DTEND;TZID=Asia/Hong_Kong:20250523T210000
LOCATION:图书馆唐炳源唐温金美展览厅
SUMMARY:施子清博士九秩寿庆书法展《墨韵流芳》
UID:44074
END:VEVENT
BEGIN:VEVENT
DTSTAMP;TZID=Asia/Hong_Kong:20260425T090817
DTSTART;TZID=Asia/Hong_Kong:20250524T090000
DTEND;TZID=Asia/Hong_Kong:20250524T210000
LOCATION:图书馆唐炳源唐温金美展览厅
SUMMARY:施子清博士九秩寿庆书法展《墨韵流芳》
UID:44074
END:VEVENT
BEGIN:VEVENT
DTSTAMP;TZID=Asia/Hong_Kong:20260425T090817
DTSTART;TZID=Asia/Hong_Kong:20250525T090000
DTEND;TZID=Asia/Hong_Kong:20250525T210000
LOCATION:图书馆唐炳源唐温金美展览厅
SUMMARY:施子清博士九秩寿庆书法展《墨韵流芳》
UID:44074
END:VEVENT
BEGIN:VEVENT
DTSTAMP;TZID=Asia/Hong_Kong:20260425T090817
DTSTART;TZID=Asia/Hong_Kong:20250526T090000
DTEND;TZID=Asia/Hong_Kong:20250526T210000
LOCATION:图书馆唐炳源唐温金美展览厅
SUMMARY:施子清博士九秩寿庆书法展《墨韵流芳》
UID:44074
END:VEVENT
BEGIN:VEVENT
DTSTAMP;TZID=Asia/Hong_Kong:20260425T090817
DTSTART;TZID=Asia/Hong_Kong:20250527T090000
DTEND;TZID=Asia/Hong_Kong:20250527T210000
LOCATION:图书馆唐炳源唐温金美展览厅
SUMMARY:施子清博士九秩寿庆书法展《墨韵流芳》
UID:44074
END:VEVENT
BEGIN:VEVENT
DTSTAMP;TZID=Asia/Hong_Kong:20260425T090817
DTSTART;TZID=Asia/Hong_Kong:20250528T090000
DTEND;TZID=Asia/Hong_Kong:20250528T210000
LOCATION:图书馆唐炳源唐温金美展览厅
SUMMARY:施子清博士九秩寿庆书法展《墨韵流芳》
UID:44074
END:VEVENT
BEGIN:VEVENT
DTSTAMP;TZID=Asia/Hong_Kong:20260425T090817
DTSTART;TZID=Asia/Hong_Kong:20250529T090000
DTEND;TZID=Asia/Hong_Kong:20250529T210000
LOCATION:图书馆唐炳源唐温金美展览厅
SUMMARY:施子清博士九秩寿庆书法展《墨韵流芳》
UID:44074
END:VEVENT
BEGIN:VEVENT
DTSTAMP;TZID=Asia/Hong_Kong:20260425T090817
DTSTART;TZID=Asia/Hong_Kong:20250530T090000
DTEND;TZID=Asia/Hong_Kong:20250530T210000
LOCATION:图书馆唐炳源唐温金美展览厅
SUMMARY:施子清博士九秩寿庆书法展《墨韵流芳》
UID:44074
END:VEVENT
BEGIN:VEVENT
DTSTAMP;TZID=Asia/Hong_Kong:20260425T090817
DTSTART;TZID=Asia/Hong_Kong:20250531T090000
DTEND;TZID=Asia/Hong_Kong:20250531T210000
LOCATION:图书馆唐炳源唐温金美展览厅
SUMMARY:施子清博士九秩寿庆书法展《墨韵流芳》
UID:44074
END:VEVENT
BEGIN:VEVENT
DTSTAMP;TZID=Asia/Hong_Kong:20260425T090817
DTSTART;TZID=Asia/Hong_Kong:20250601T090000
DTEND;TZID=Asia/Hong_Kong:20250601T210000
LOCATION:图书馆唐炳源唐温金美展览厅
SUMMARY:施子清博士九秩寿庆书法展《墨韵流芳》
UID:44074
END:VEVENT
BEGIN:VEVENT
DTSTAMP;TZID=Asia/Hong_Kong:20260425T090817
DTSTART;TZID=Asia/Hong_Kong:20250602T090000
DTEND;TZID=Asia/Hong_Kong:20250602T210000
LOCATION:图书馆唐炳源唐温金美展览厅
SUMMARY:施子清博士九秩寿庆书法展《墨韵流芳》
UID:44074
END:VEVENT
BEGIN:VEVENT
DTSTAMP;TZID=Asia/Hong_Kong:20260425T090817
DTSTART;TZID=Asia/Hong_Kong:20250603T090000
DTEND;TZID=Asia/Hong_Kong:20250603T210000
LOCATION:图书馆唐炳源唐温金美展览厅
SUMMARY:施子清博士九秩寿庆书法展《墨韵流芳》
UID:44074
END:VEVENT
BEGIN:VEVENT
DTSTAMP;TZID=Asia/Hong_Kong:20260425T090817
DTSTART;TZID=Asia/Hong_Kong:20250604T090000
DTEND;TZID=Asia/Hong_Kong:20250604T210000
LOCATION:图书馆唐炳源唐温金美展览厅
SUMMARY:施子清博士九秩寿庆书法展《墨韵流芳》
UID:44074
END:VEVENT
BEGIN:VEVENT
DTSTAMP;TZID=Asia/Hong_Kong:20260425T090817
DTSTART;TZID=Asia/Hong_Kong:20250605T090000
DTEND;TZID=Asia/Hong_Kong:20250605T210000
LOCATION:图书馆唐炳源唐温金美展览厅
SUMMARY:施子清博士九秩寿庆书法展《墨韵流芳》
UID:44074
END:VEVENT
BEGIN:VEVENT
DTSTAMP;TZID=Asia/Hong_Kong:20260425T090817
DTSTART;TZID=Asia/Hong_Kong:20250606T090000
DTEND;TZID=Asia/Hong_Kong:20250606T210000
LOCATION:图书馆唐炳源唐温金美展览厅
SUMMARY:施子清博士九秩寿庆书法展《墨韵流芳》
UID:44074
END:VEVENT
BEGIN:VEVENT
DTSTAMP;TZID=Asia/Hong_Kong:20260425T090817
DTSTART;TZID=Asia/Hong_Kong:20250607T090000
DTEND;TZID=Asia/Hong_Kong:20250607T210000
LOCATION:图书馆唐炳源唐温金美展览厅
SUMMARY:施子清博士九秩寿庆书法展《墨韵流芳》
UID:44074
END:VEVENT
BEGIN:VEVENT
DTSTAMP;TZID=Asia/Hong_Kong:20260425T090817
DTSTART;TZID=Asia/Hong_Kong:20250608T090000
DTEND;TZID=Asia/Hong_Kong:20250608T210000
LOCATION:图书馆唐炳源唐温金美展览厅
SUMMARY:施子清博士九秩寿庆书法展《墨韵流芳》
UID:44074
END:VEVENT
BEGIN:VEVENT
DTSTAMP;TZID=Asia/Hong_Kong:20260425T090817
DTSTART;TZID=Asia/Hong_Kong:20250609T090000
DTEND;TZID=Asia/Hong_Kong:20250609T210000
LOCATION:图书馆唐炳源唐温金美展览厅
SUMMARY:施子清博士九秩寿庆书法展《墨韵流芳》
UID:44074
END:VEVENT
BEGIN:VEVENT
DTSTAMP;TZID=Asia/Hong_Kong:20260425T090817
DTSTART;TZID=Asia/Hong_Kong:20250610T090000
DTEND;TZID=Asia/Hong_Kong:20250610T210000
LOCATION:图书馆唐炳源唐温金美展览厅
SUMMARY:施子清博士九秩寿庆书法展《墨韵流芳》
UID:44074
END:VEVENT
BEGIN:VEVENT
DTSTAMP;TZID=Asia/Hong_Kong:20260425T090817
DTSTART;TZID=Asia/Hong_Kong:20250611T090000
DTEND;TZID=Asia/Hong_Kong:20250611T210000
LOCATION:图书馆唐炳源唐温金美展览厅
SUMMARY:施子清博士九秩寿庆书法展《墨韵流芳》
UID:44074
END:VEVENT
BEGIN:VEVENT
DTSTAMP;TZID=Asia/Hong_Kong:20260425T090817
DTSTART;TZID=Asia/Hong_Kong:20250612T090000
DTEND;TZID=Asia/Hong_Kong:20250612T210000
LOCATION:图书馆唐炳源唐温金美展览厅
SUMMARY:施子清博士九秩寿庆书法展《墨韵流芳》
UID:44074
END:VEVENT
BEGIN:VEVENT
DTSTAMP;TZID=Asia/Hong_Kong:20260425T090817
DTSTART;TZID=Asia/Hong_Kong:20250613T090000
DTEND;TZID=Asia/Hong_Kong:20250613T210000
LOCATION:图书馆唐炳源唐温金美展览厅
SUMMARY:施子清博士九秩寿庆书法展《墨韵流芳》
UID:44074
END:VEVENT
BEGIN:VEVENT
DTSTAMP;TZID=Asia/Hong_Kong:20260425T090817
DTSTART;TZID=Asia/Hong_Kong:20250614T090000
DTEND;TZID=Asia/Hong_Kong:20250614T210000
LOCATION:图书馆唐炳源唐温金美展览厅
SUMMARY:施子清博士九秩寿庆书法展《墨韵流芳》
UID:44074
END:VEVENT
BEGIN:VEVENT
DTSTAMP;TZID=Asia/Hong_Kong:20260425T090817
DTSTART;TZID=Asia/Hong_Kong:20250615T090000
DTEND;TZID=Asia/Hong_Kong:20250615T210000
LOCATION:图书馆唐炳源唐温金美展览厅
SUMMARY:施子清博士九秩寿庆书法展《墨韵流芳》
UID:44074
END:VEVENT
BEGIN:VEVENT
DTSTAMP;TZID=Asia/Hong_Kong:20260425T090817
DTSTART;TZID=Asia/Hong_Kong:20250616T090000
DTEND;TZID=Asia/Hong_Kong:20250616T210000
LOCATION:图书馆唐炳源唐温金美展览厅
SUMMARY:施子清博士九秩寿庆书法展《墨韵流芳》
UID:44074
END:VEVENT
BEGIN:VEVENT
DTSTAMP;TZID=Asia/Hong_Kong:20260425T090817
DTSTART;TZID=Asia/Hong_Kong:20250617T090000
DTEND;TZID=Asia/Hong_Kong:20250617T210000
LOCATION:图书馆唐炳源唐温金美展览厅
SUMMARY:施子清博士九秩寿庆书法展《墨韵流芳》
UID:44074
END:VEVENT
BEGIN:VEVENT
DTSTAMP;TZID=Asia/Hong_Kong:20260425T090817
DTSTART;TZID=Asia/Hong_Kong:20250618T090000
DTEND;TZID=Asia/Hong_Kong:20250618T210000
LOCATION:图书馆唐炳源唐温金美展览厅
SUMMARY:施子清博士九秩寿庆书法展《墨韵流芳》
UID:44074
END:VEVENT
BEGIN:VEVENT
DTSTAMP;TZID=Asia/Hong_Kong:20260425T090817
DTSTART;TZID=Asia/Hong_Kong:20250619T090000
DTEND;TZID=Asia/Hong_Kong:20250619T210000
LOCATION:图书馆唐炳源唐温金美展览厅
SUMMARY:施子清博士九秩寿庆书法展《墨韵流芳》
UID:44074
END:VEVENT
BEGIN:VEVENT
DTSTAMP;TZID=Asia/Hong_Kong:20260425T090817
DTSTART;TZID=Asia/Hong_Kong:20250620T090000
DTEND;TZID=Asia/Hong_Kong:20250620T210000
LOCATION:图书馆唐炳源唐温金美展览厅
SUMMARY:施子清博士九秩寿庆书法展《墨韵流芳》
UID:44074
END:VEVENT
BEGIN:VEVENT
DTSTAMP;TZID=Asia/Hong_Kong:20260425T090817
DTSTART;TZID=Asia/Hong_Kong:20250621T090000
DTEND;TZID=Asia/Hong_Kong:20250621T210000
LOCATION:图书馆唐炳源唐温金美展览厅
SUMMARY:施子清博士九秩寿庆书法展《墨韵流芳》
UID:44074
END:VEVENT
BEGIN:VEVENT
DTSTAMP;TZID=Asia/Hong_Kong:20260425T090817
DTSTART;TZID=Asia/Hong_Kong:20250622T090000
DTEND;TZID=Asia/Hong_Kong:20250622T210000
LOCATION:图书馆唐炳源唐温金美展览厅
SUMMARY:施子清博士九秩寿庆书法展《墨韵流芳》
UID:44074
END:VEVENT
BEGIN:VEVENT
DTSTAMP;TZID=Asia/Hong_Kong:20260425T090817
DTSTART;TZID=Asia/Hong_Kong:20250623T090000
DTEND;TZID=Asia/Hong_Kong:20250623T210000
LOCATION:图书馆唐炳源唐温金美展览厅
SUMMARY:施子清博士九秩寿庆书法展《墨韵流芳》
UID:44074
END:VEVENT
BEGIN:VEVENT
DTSTAMP;TZID=Asia/Hong_Kong:20260425T090817
DTSTART;TZID=Asia/Hong_Kong:20250624T090000
DTEND;TZID=Asia/Hong_Kong:20250624T210000
LOCATION:图书馆唐炳源唐温金美展览厅
SUMMARY:施子清博士九秩寿庆书法展《墨韵流芳》
UID:44074
END:VEVENT
BEGIN:VEVENT
DTSTAMP;TZID=Asia/Hong_Kong:20260425T090817
DTSTART;TZID=Asia/Hong_Kong:20250625T090000
DTEND;TZID=Asia/Hong_Kong:20250625T210000
LOCATION:图书馆唐炳源唐温金美展览厅
SUMMARY:施子清博士九秩寿庆书法展《墨韵流芳》
UID:44074
END:VEVENT
BEGIN:VEVENT
DTSTAMP;TZID=Asia/Hong_Kong:20260425T090817
DTSTART;TZID=Asia/Hong_Kong:20250626T090000
DTEND;TZID=Asia/Hong_Kong:20250626T210000
LOCATION:图书馆唐炳源唐温金美展览厅
SUMMARY:施子清博士九秩寿庆书法展《墨韵流芳》
UID:44074
END:VEVENT
BEGIN:VEVENT
DTSTAMP;TZID=Asia/Hong_Kong:20260425T090817
DTSTART;TZID=Asia/Hong_Kong:20250627T090000
DTEND;TZID=Asia/Hong_Kong:20250627T210000
LOCATION:图书馆唐炳源唐温金美展览厅
SUMMARY:施子清博士九秩寿庆书法展《墨韵流芳》
UID:44074
END:VEVENT
BEGIN:VEVENT
DTSTAMP;TZID=Asia/Hong_Kong:20260425T090817
DTSTART;TZID=Asia/Hong_Kong:20250628T090000
DTEND;TZID=Asia/Hong_Kong:20250628T210000
LOCATION:图书馆唐炳源唐温金美展览厅
SUMMARY:施子清博士九秩寿庆书法展《墨韵流芳》
UID:44074
END:VEVENT
BEGIN:VEVENT
DTSTAMP;TZID=Asia/Hong_Kong:20260425T090817
DTSTART;TZID=Asia/Hong_Kong:20250629T090000
DTEND;TZID=Asia/Hong_Kong:20250629T210000
LOCATION:图书馆唐炳源唐温金美展览厅
SUMMARY:施子清博士九秩寿庆书法展《墨韵流芳》
UID:44074
END:VEVENT
BEGIN:VEVENT
DTSTAMP;TZID=Asia/Hong_Kong:20260425T090817
DTSTART;TZID=Asia/Hong_Kong:20250630T090000
DTEND;TZID=Asia/Hong_Kong:20250630T210000
LOCATION:图书馆唐炳源唐温金美展览厅
SUMMARY:施子清博士九秩寿庆书法展《墨韵流芳》
UID:44074
END:VEVENT
BEGIN:VEVENT
DTSTAMP;TZID=Asia/Hong_Kong:20260425T090817
DTSTART;TZID=Asia/Hong_Kong:20250701T090000
DTEND;TZID=Asia/Hong_Kong:20250701T210000
LOCATION:图书馆唐炳源唐温金美展览厅
SUMMARY:施子清博士九秩寿庆书法展《墨韵流芳》
UID:44074
END:VEVENT
BEGIN:VEVENT
DTSTAMP;TZID=Asia/Hong_Kong:20260425T090817
DTSTART;TZID=Asia/Hong_Kong:20250702T090000
DTEND;TZID=Asia/Hong_Kong:20250702T210000
LOCATION:图书馆唐炳源唐温金美展览厅
SUMMARY:施子清博士九秩寿庆书法展《墨韵流芳》
UID:44074
END:VEVENT
BEGIN:VEVENT
DTSTAMP;TZID=Asia/Hong_Kong:20260425T090817
DTSTART;TZID=Asia/Hong_Kong:20250703T090000
DTEND;TZID=Asia/Hong_Kong:20250703T210000
LOCATION:图书馆唐炳源唐温金美展览厅
SUMMARY:施子清博士九秩寿庆书法展《墨韵流芳》
UID:44074
END:VEVENT
BEGIN:VEVENT
DTSTAMP;TZID=Asia/Hong_Kong:20260425T090817
DTSTART;TZID=Asia/Hong_Kong:20250704T090000
DTEND;TZID=Asia/Hong_Kong:20250704T210000
LOCATION:图书馆唐炳源唐温金美展览厅
SUMMARY:施子清博士九秩寿庆书法展《墨韵流芳》
UID:44074
END:VEVENT
BEGIN:VEVENT
DTSTAMP;TZID=Asia/Hong_Kong:20260425T090817
DTSTART;TZID=Asia/Hong_Kong:20250705T090000
DTEND;TZID=Asia/Hong_Kong:20250705T210000
LOCATION:图书馆唐炳源唐温金美展览厅
SUMMARY:施子清博士九秩寿庆书法展《墨韵流芳》
UID:44074
END:VEVENT
BEGIN:VEVENT
DTSTAMP;TZID=Asia/Hong_Kong:20260425T090817
DTSTART;TZID=Asia/Hong_Kong:20250706T090000
DTEND;TZID=Asia/Hong_Kong:20250706T210000
LOCATION:图书馆唐炳源唐温金美展览厅
SUMMARY:施子清博士九秩寿庆书法展《墨韵流芳》
UID:44074
END:VEVENT
BEGIN:VEVENT
DTSTAMP;TZID=Asia/Hong_Kong:20260425T090817
DTSTART;TZID=Asia/Hong_Kong:20250707T090000
DTEND;TZID=Asia/Hong_Kong:20250707T210000
LOCATION:图书馆唐炳源唐温金美展览厅
SUMMARY:施子清博士九秩寿庆书法展《墨韵流芳》
UID:44074
END:VEVENT
BEGIN:VEVENT
DTSTAMP;TZID=Asia/Hong_Kong:20260425T090817
DTSTART;TZID=Asia/Hong_Kong:20250708T090000
DTEND;TZID=Asia/Hong_Kong:20250708T210000
LOCATION:图书馆唐炳源唐温金美展览厅
SUMMARY:施子清博士九秩寿庆书法展《墨韵流芳》
UID:44074
END:VEVENT
BEGIN:VEVENT
DTSTAMP;TZID=Asia/Hong_Kong:20260425T090817
DTSTART;TZID=Asia/Hong_Kong:20250709T090000
DTEND;TZID=Asia/Hong_Kong:20250709T210000
LOCATION:图书馆唐炳源唐温金美展览厅
SUMMARY:施子清博士九秩寿庆书法展《墨韵流芳》
UID:44074
END:VEVENT
BEGIN:VEVENT
DTSTAMP;TZID=Asia/Hong_Kong:20260425T090817
DTSTART;TZID=Asia/Hong_Kong:20250710T090000
DTEND;TZID=Asia/Hong_Kong:20250710T210000
LOCATION:图书馆唐炳源唐温金美展览厅
SUMMARY:施子清博士九秩寿庆书法展《墨韵流芳》
UID:44074
END:VEVENT
BEGIN:VEVENT
DTSTAMP;TZID=Asia/Hong_Kong:20260425T090817
DTSTART;TZID=Asia/Hong_Kong:20250711T090000
DTEND;TZID=Asia/Hong_Kong:20250711T210000
LOCATION:图书馆唐炳源唐温金美展览厅
SUMMARY:施子清博士九秩寿庆书法展《墨韵流芳》
UID:44074
END:VEVENT
BEGIN:VEVENT
DTSTAMP;TZID=Asia/Hong_Kong:20260425T090817
DTSTART;TZID=Asia/Hong_Kong:20250712T090000
DTEND;TZID=Asia/Hong_Kong:20250712T210000
LOCATION:图书馆唐炳源唐温金美展览厅
SUMMARY:施子清博士九秩寿庆书法展《墨韵流芳》
UID:44074
END:VEVENT
BEGIN:VEVENT
DTSTAMP;TZID=Asia/Hong_Kong:20260425T090817
DTSTART;TZID=Asia/Hong_Kong:20250713T090000
DTEND;TZID=Asia/Hong_Kong:20250713T210000
LOCATION:图书馆唐炳源唐温金美展览厅
SUMMARY:施子清博士九秩寿庆书法展《墨韵流芳》
UID:44074
END:VEVENT
BEGIN:VEVENT
DTSTAMP;TZID=Asia/Hong_Kong:20260425T090817
DTSTART;TZID=Asia/Hong_Kong:20250714T090000
DTEND;TZID=Asia/Hong_Kong:20250714T210000
LOCATION:图书馆唐炳源唐温金美展览厅
SUMMARY:施子清博士九秩寿庆书法展《墨韵流芳》
UID:44074
END:VEVENT
BEGIN:VEVENT
DTSTAMP;TZID=Asia/Hong_Kong:20260425T090817
DTSTART;TZID=Asia/Hong_Kong:20250715T090000
DTEND;TZID=Asia/Hong_Kong:20250715T210000
LOCATION:图书馆唐炳源唐温金美展览厅
SUMMARY:施子清博士九秩寿庆书法展《墨韵流芳》
UID:44074
END:VEVENT
BEGIN:VEVENT
DTSTAMP;TZID=Asia/Hong_Kong:20260425T090817
DTSTART;TZID=Asia/Hong_Kong:20250716T090000
DTEND;TZID=Asia/Hong_Kong:20250716T210000
LOCATION:图书馆唐炳源唐温金美展览厅
SUMMARY:施子清博士九秩寿庆书法展《墨韵流芳》
UID:44074
END:VEVENT
BEGIN:VEVENT
DTSTAMP;TZID=Asia/Hong_Kong:20260425T090817
DTSTART;TZID=Asia/Hong_Kong:20250717T090000
DTEND;TZID=Asia/Hong_Kong:20250717T210000
LOCATION:图书馆唐炳源唐温金美展览厅
SUMMARY:施子清博士九秩寿庆书法展《墨韵流芳》
UID:44074
END:VEVENT
BEGIN:VEVENT
DTSTAMP;TZID=Asia/Hong_Kong:20260425T090817
DTSTART;TZID=Asia/Hong_Kong:20250718T090000
DTEND;TZID=Asia/Hong_Kong:20250718T210000
LOCATION:图书馆唐炳源唐温金美展览厅
SUMMARY:施子清博士九秩寿庆书法展《墨韵流芳》
UID:44074
END:VEVENT
BEGIN:VEVENT
DTSTAMP;TZID=Asia/Hong_Kong:20260425T090817
DTSTART;TZID=Asia/Hong_Kong:20250719T090000
DTEND;TZID=Asia/Hong_Kong:20250719T210000
LOCATION:图书馆唐炳源唐温金美展览厅
SUMMARY:施子清博士九秩寿庆书法展《墨韵流芳》
UID:44074
END:VEVENT
BEGIN:VEVENT
DTSTAMP;TZID=Asia/Hong_Kong:20260425T090817
DTSTART;TZID=Asia/Hong_Kong:20250720T090000
DTEND;TZID=Asia/Hong_Kong:20250720T210000
LOCATION:图书馆唐炳源唐温金美展览厅
SUMMARY:施子清博士九秩寿庆书法展《墨韵流芳》
UID:44074
END:VEVENT
BEGIN:VEVENT
DTSTAMP;TZID=Asia/Hong_Kong:20260425T090817
DTSTART;TZID=Asia/Hong_Kong:20250721T090000
DTEND;TZID=Asia/Hong_Kong:20250721T210000
LOCATION:图书馆唐炳源唐温金美展览厅
SUMMARY:施子清博士九秩寿庆书法展《墨韵流芳》
UID:44074
END:VEVENT
BEGIN:VEVENT
DTSTAMP;TZID=Asia/Hong_Kong:20260425T090817
DTSTART;TZID=Asia/Hong_Kong:20250722T090000
DTEND;TZID=Asia/Hong_Kong:20250722T210000
LOCATION:图书馆唐炳源唐温金美展览厅
SUMMARY:施子清博士九秩寿庆书法展《墨韵流芳》
UID:44074
END:VEVENT
BEGIN:VEVENT
DTSTAMP;TZID=Asia/Hong_Kong:20260425T090817
DTSTART;TZID=Asia/Hong_Kong:20250723T090000
DTEND;TZID=Asia/Hong_Kong:20250723T210000
LOCATION:图书馆唐炳源唐温金美展览厅
SUMMARY:施子清博士九秩寿庆书法展《墨韵流芳》
UID:44074
END:VEVENT
BEGIN:VEVENT
DTSTAMP;TZID=Asia/Hong_Kong:20260425T090817
DTSTART;TZID=Asia/Hong_Kong:20250724T090000
DTEND;TZID=Asia/Hong_Kong:20250724T210000
LOCATION:图书馆唐炳源唐温金美展览厅
SUMMARY:施子清博士九秩寿庆书法展《墨韵流芳》
UID:44074
END:VEVENT
BEGIN:VEVENT
DTSTAMP;TZID=Asia/Hong_Kong:20260425T090817
DTSTART;TZID=Asia/Hong_Kong:20250725T090000
DTEND;TZID=Asia/Hong_Kong:20250725T210000
LOCATION:图书馆唐炳源唐温金美展览厅
SUMMARY:施子清博士九秩寿庆书法展《墨韵流芳》
UID:44074
END:VEVENT
BEGIN:VEVENT
DTSTAMP;TZID=Asia/Hong_Kong:20260425T090817
DTSTART;TZID=Asia/Hong_Kong:20250726T090000
DTEND;TZID=Asia/Hong_Kong:20250726T210000
LOCATION:图书馆唐炳源唐温金美展览厅
SUMMARY:施子清博士九秩寿庆书法展《墨韵流芳》
UID:44074
END:VEVENT
BEGIN:VEVENT
DTSTAMP;TZID=Asia/Hong_Kong:20260425T090817
DTSTART;TZID=Asia/Hong_Kong:20250727T090000
DTEND;TZID=Asia/Hong_Kong:20250727T210000
LOCATION:图书馆唐炳源唐温金美展览厅
SUMMARY:施子清博士九秩寿庆书法展《墨韵流芳》
UID:44074
END:VEVENT
BEGIN:VEVENT
DTSTAMP;TZID=Asia/Hong_Kong:20260425T090817
DTSTART;TZID=Asia/Hong_Kong:20250728T090000
DTEND;TZID=Asia/Hong_Kong:20250728T210000
LOCATION:图书馆唐炳源唐温金美展览厅
SUMMARY:施子清博士九秩寿庆书法展《墨韵流芳》
UID:44074
END:VEVENT
BEGIN:VEVENT
DTSTAMP;TZID=Asia/Hong_Kong:20260425T090817
DTSTART;TZID=Asia/Hong_Kong:20250729T090000
DTEND;TZID=Asia/Hong_Kong:20250729T210000
LOCATION:图书馆唐炳源唐温金美展览厅
SUMMARY:施子清博士九秩寿庆书法展《墨韵流芳》
UID:44074
END:VEVENT
BEGIN:VEVENT
DTSTAMP;TZID=Asia/Hong_Kong:20260425T090817
DTSTART;TZID=Asia/Hong_Kong:20250730T090000
DTEND;TZID=Asia/Hong_Kong:20250730T210000
LOCATION:图书馆唐炳源唐温金美展览厅
SUMMARY:施子清博士九秩寿庆书法展《墨韵流芳》
UID:44074
END:VEVENT
BEGIN:VEVENT
DTSTAMP;TZID=Asia/Hong_Kong:20260425T090817
DTSTART;TZID=Asia/Hong_Kong:20250731T090000
DTEND;TZID=Asia/Hong_Kong:20250731T210000
LOCATION:图书馆唐炳源唐温金美展览厅
SUMMARY:施子清博士九秩寿庆书法展《墨韵流芳》
UID:44074
END:VEVENT
END:VCALENDAR