BEGIN:VCALENDAR
PRODID:-//HKUST Drupal Platform//EN
VERSION:2.0
BEGIN:VTIMEZONE
TZID:Asia/Hong_Kong
BEGIN:STANDARD
DTSTART:20071104T020000
TZOFFSETFROM:+0700
TZOFFSETTO:+0800
TZNAME:HKT
END:STANDARD
END:VTIMEZONE
BEGIN:VEVENT
DTSTAMP;TZID=Asia/Hong_Kong:20260426T120032
DTSTART;TZID=Asia/Hong_Kong:20241018T193000
DTEND;TZID=Asia/Hong_Kong:20241018T203000
LOCATION:Shaw Auditorium, HKUST
SUMMARY:\"Colorful Breeze\"—— Chinese Nation Song and Dance Gala “多彩的風”中國民族歌舞晚會  - \"Colorful Breeze\"—— Chinese Nation Song and Dance Gala “多彩的風”中國民族歌舞晚會
UID:42169
END:VEVENT
END:VCALENDAR