BEGIN:VCALENDAR
PRODID:-//HKUST Drupal Platform//EN
VERSION:2.0
BEGIN:VTIMEZONE
TZID:Asia/Hong_Kong
BEGIN:STANDARD
DTSTART:20071104T020000
TZOFFSETFROM:+0700
TZOFFSETTO:+0800
TZNAME:HKT
END:STANDARD
END:VTIMEZONE
BEGIN:VEVENT
DTSTAMP;TZID=Asia/Hong_Kong:20260425T054329
DTSTART;TZID=Asia/Hong_Kong:20220528T150000
DTEND;TZID=Asia/Hong_Kong:20220528T163000
LOCATION:https://hkust.zoom.us/j/97313378988?pwd=U3VEc0JlRjdLREU3WmgrcUd4Q1hDQT09
SUMMARY:汪扬教授轻松访谈: 与第一代中国基金经理刘央笑看人生 
UID:34531
END:VEVENT
END:VCALENDAR