BEGIN:VCALENDAR
PRODID:-//HKUST Drupal Platform//EN
VERSION:2.0
BEGIN:VTIMEZONE
TZID:Asia/Hong_Kong
BEGIN:STANDARD
DTSTART:20071104T020000
TZOFFSETFROM:+0700
TZOFFSETTO:+0800
TZNAME:HKT
END:STANDARD
END:VTIMEZONE
BEGIN:VEVENT
DTSTAMP;TZID=Asia/Hong_Kong:20260423T055918
DTSTART;TZID=Asia/Hong_Kong:20240429T193000
DTEND;TZID=Asia/Hong_Kong:20240429T210000
LOCATION:Main Hall, Shaw Auditorium
SUMMARY:香港舞蹈團《舞韻中華》Elegance of Ancient Chinese Dances by Hong Kong Dance Company
UID:40379
END:VEVENT
END:VCALENDAR