BEGIN:VCALENDAR
PRODID:-//HKUST Drupal Platform//EN
VERSION:2.0
BEGIN:VTIMEZONE
TZID:Asia/Hong_Kong
BEGIN:STANDARD
DTSTART:20071104T020000
TZOFFSETFROM:+0700
TZOFFSETTO:+0800
TZNAME:HKT
END:STANDARD
END:VTIMEZONE
BEGIN:VEVENT
DTSTAMP;TZID=Asia/Hong_Kong:20260420T230759
DTSTART;TZID=Asia/Hong_Kong:20210506T123000
DTEND;TZID=Asia/Hong_Kong:20210506T140000
LOCATION:Room 1410 or via Zoom (Meeting ID: 922 4197 9779; Passcode: 041550)
SUMMARY:Soft Power: From Laozi-Kongfuzi to the 21st Century 
UID:27966
END:VEVENT
END:VCALENDAR